Workbook

Sheet Caso 1
B10: 1. Caso de ingresos por salarios con dos o más patrones
B12: I. Datos del patrón 1
B13: Información permanente | E13: 2019 | F13: 2020 | G13: 2021
B14: Salario Mínimo General | E14: 102.68 | F14: 123.22 | G14: 141.7
B15: Salario Mínimo General RFN | E15: 176.72 | F15: 185.56 | G15: 213.39
B16: UMA diaria | E16: 84.49 | F16: 86.88 | G16: 89.62
B17: UMA anual | E17: 30822 | F17: 31693.8 | G17: 32693.4
B20: Concepto | D20: LISR | E20: LFT | F20: LSS | G20: LISR
B21: Salario mensual | E21: 4350 | F21: 4350 | G21: 4350
B22: Salario cuota diaria | E22: =+E21/30 -> 145 | F22: =+F21/30 -> 145 | G22: =+G21/30.4 -> 143.09211
B24: I.I Retenciones mensuales de ISR Art. 96 LISR
B25: Concepto | D25: Enero | E25: Febrero | F25: Marzo | G25: Abril | H25: Mayo | I25: Junio | J25: Julio | K25: Agosto | L25: Septiembre | M25: Octubre | N25: Noviembre | O25: Diciembre | P25: Totales
B26: Salario mensual | D26: =+$G$21 -> 4350 | E26: =+$G$21 -> 4350 | F26: =+$G$21 -> 4350 | G26: =+$G$21 -> 4350 | H26: =+$G$21 -> 4350 | I26: =+$G$21 -> 4350 | J26: =+$G$21 -> 4350 | K26: =+$G$21 -> 4350 | ... O26: =+$G$21 -> 4350 | P26: =SUM(D26:O26) -> 52200
A27: (+) | B27: Otras percepciones | D27: 0 | E27: 0 | F27: 0 | G27: 0 | H27: =+E44 -> 7155.7 | I27: 0 | J27: 0 | K27: 0 | L27: 0 | M27: 0 | N27: 0 | O27: 0
A28: (=) | B28: Base gravable | D28: =+D26+D27 -> 4350 | E28: =+E26+E27 -> 4350 | F28: =+F26+F27 -> 4350 | G28: =+G26+G27 -> 4350 | H28: =+H26+H27 -> 11505.7 | I28: =+I26+I27 -> 4350 | J28: =+J26+J27 -> 4350 | K28: =+K26+K27 -> 4350 | ... O28: =+O26+O27 -> 4350
A29: (-) | B29: Límite inferior | D29: =VLOOKUP(D28,Tarifas!$B$3:$E$16,1) -> 644.59 | E29: =VLOOKUP(E28,Tarifas!$B$3:$E$16,1) -> 644.59 | F29: =VLOOKUP(F28,Tarifas!$B$3:$E$16,1) -> 644.59 | G29: =VLOOKUP(G28,Tarifas!$B$3:$E$16,1) -> 644.59 | H29: =VLOOKUP(H28,Tarifas!$B$3:$E$16,1) -> 11176.63 | I29: =VLOOKUP(I28,Tarifas!$B$3:$E$16,1) -> 644.59 | J29: =VLOOKUP(J28,Tarifas!$B$3:$E$16,1) -> 644.59 | K29: =VLOOKUP(K28,Tarifas!$B$3:$E$16,1) -> 644.59 | ... O29: =VLOOKUP(O28,Tarifas!$B$3:$E$16,1) -> 644.59
A30: (=) | B30: Excedente | D30: =+D28-D29 -> 3705.41 | E30: =+E28-E29 -> 3705.41 | F30: =+F28-F29 -> 3705.41 | G30: =+G28-G29 -> 3705.41 | H30: =+H28-H29 -> 329.07 | I30: =+I28-I29 -> 3705.41 | J30: =+J28-J29 -> 3705.41 | K30: =+K28-K29 -> 3705.41 | ... O30: =+O28-O29 -> 3705.41
A31: (x) | B31: % sobre excedente | D31: =VLOOKUP(D28,Tarifas!$B$3:$E$16,4)/100 -> 0.064 | E31: =VLOOKUP(E28,Tarifas!$B$3:$E$16,4)/100 -> 0.064 | F31: =VLOOKUP(F28,Tarifas!$B$3:$E$16,4)/100 -> 0.064 | G31: =VLOOKUP(G28,Tarifas!$B$3:$E$16,4)/100 -> 0.064 | H31: =VLOOKUP(H28,Tarifas!$B$3:$E$16,4)/100 -> 0.1792 | I31: =VLOOKUP(I28,Tarifas!$B$3:$E$16,4)/100 -> 0.064 | J31: =VLOOKUP(J28,Tarifas!$B$3:$E$16,4)/100 -> 0.064 | K31: =VLOOKUP(K28,Tarifas!$B$3:$E$16,4)/100 -> 0.064 | ... O31: =VLOOKUP(O28,Tarifas!$B$3:$E$16,4)/100 -> 0.064
A32: (=) | B32: Impuesto marginal | D32: =+D30*D31 -> 237.14624 | E32: =+E30*E31 -> 237.14624 | F32: =+F30*F31 -> 237.14624 | G32: =+G30*G31 -> 237.14624 | H32: =+H30*H31 -> 58.969344 | I32: =+I30*I31 -> 237.14624 | J32: =+J30*J31 -> 237.14624 | K32: =+K30*K31 -> 237.14624 | ... O32: =+O30*O31 -> 237.14624
A33: (+) | B33: Cuota fija | D33: =VLOOKUP(D28,Tarifas!$B$3:$E$16,3) -> 12.38 | E33: =VLOOKUP(E28,Tarifas!$B$3:$E$16,3) -> 12.38 | F33: =VLOOKUP(F28,Tarifas!$B$3:$E$16,3) -> 12.38 | G33: =VLOOKUP(G28,Tarifas!$B$3:$E$16,3) -> 12.38 | H33: =VLOOKUP(H28,Tarifas!$B$3:$E$16,3) -> 1022.01 | I33: =VLOOKUP(I28,Tarifas!$B$3:$E$16,3) -> 12.38 | J33: =VLOOKUP(J28,Tarifas!$B$3:$E$16,3) -> 12.38 | K33: =VLOOKUP(K28,Tarifas!$B$3:$E$16,3) -> 12.38 | ... O33: =VLOOKUP(O28,Tarifas!$B$3:$E$16,3) -> 12.38
A34: (=) | B34: ISR determinado | D34: =+D32+D33 -> 249.52624 | E34: =+E32+E33 -> 249.52624 | F34: =+F32+F33 -> 249.52624 | G34: =+G32+G33 -> 249.52624 | H34: =+H32+H33 -> 1080.9793 | I34: =+I32+I33 -> 249.52624 | J34: =+J32+J33 -> 249.52624 | K34: =+K32+K33 -> 249.52624 | ... O34: =+O32+O33 -> 249.52624
A35: (-) | B35: Subsidio para el empleo | D35: =VLOOKUP(D28,Tarifas!$B$20:$D$33,3) -> 382.46 | E35: =VLOOKUP(E28,Tarifas!$B$20:$D$33,3) -> 382.46 | F35: =VLOOKUP(F28,Tarifas!$B$20:$D$33,3) -> 382.46 | G35: =VLOOKUP(G28,Tarifas!$B$20:$D$33,3) -> 382.46 | H35: =VLOOKUP(H28,Tarifas!$B$20:$D$33,3) -> 0 | I35: =VLOOKUP(I28,Tarifas!$B$20:$D$33,3) -> 382.46 | J35: =VLOOKUP(J28,Tarifas!$B$20:$D$33,3) -> 382.46 | K35: =VLOOKUP(K28,Tarifas!$B$20:$D$33,3) -> 382.46 | ... O35: =VLOOKUP(O28,Tarifas!$B$20:$D$33,3) -> 382.46 | P35: =SUM(D35:O35) -> 4207.06
A36: (=) | B36: ISR a retener | D36: =+D34-D35 -> -132.93376 | E36: =+E34-E35 -> -132.93376 | F36: =+F34-F35 -> -132.93376 | G36: =+G34-G35 -> -132.93376 | H36: =+H34-H35 -> 1080.9793 | I36: =+I34-I35 -> -132.93376 | J36: =+J34-J35 -> -132.93376 | K36: =+K34-K35 -> -132.93376 | ... O36: =+O34-O35 -> -132.93376 | P36: =+H36 -> 1080.9793
B39: I.II Partes exentas de pagos por salarios y en general por un servicio personal subordinado
B40: Cálculo de PTU | E40: Importes
B41: Importe de la PTU pagada | E41: 8500
B42: UMA | E42: =+G16 -> 89.62
B43: PTU exenta | E43: =IF(E41>(E42*30),E42*15,E41) -> 1344.3 | F43: (89.62 x 15 días) | H43: Art. 123 LFT, Art. 9 LISR, Art. 93, fracción XIV LISR
B44: PTU gravada | E44: =+E41-E43 -> 7155.7
B47: Cálculo de prima vacacional | E47: Importes
B48: Importe de prima vacacional | E48: =E22*(10*0.25) -> 362.5 | F48: (145.00 x 10 días x 25%)
B49: UMA | E49: =+G16 -> 89.62
B50: Prima vacacional exenta | E50: =IF(E48>(E49*30),E49*15,E48) -> 362.5 | F50: (89.62 x 15 días) | H50: Art. 80 LFT, Art. 93, fracción XIV LISR
B51: Prima vacacional gravada | E51: =+E48-E50 -> 0
B54: Cálculo del aguinaldo | E54: Importes
B55: Importe del aguinaldo | E55: =+E22*15 -> 2175 | F55: (145.00 x 15 días)
B56: UMA | E56: =+G16 -> 89.62
B57: Aguinaldo exento | E57: =IF(E55>(E56*30),E56*30,E55) -> 2175 | F57: (89.62 x 30 días) | H57: Art. 87 LFT, Art. 93, fracción XIV LISR
B58: Aguinaldo gravado | E58: =+E55-E57 -> 0
B63: II. Datos del patrón 2
...

Sheet Caso 2
B10: 2. Segundo caso de ingresos por salarios con dos o más patrones
B12: I. Datos
B13: Información permanente | E13: 2019 | F13: 2020 | G13: 2021
B14: Salario Mínimo General | E14: 102.68 | F14: 123.22 | G14: 141.7
B15: Salario Mínimo General RFN | E15: 176.72 | F15: 185.56 | G15: 213.39
B16: UMA diaria | E16: 84.49 | F16: 86.88 | G16: 89.62
B17: UMA anual | E17: 30822 | F17: 31693.8 | G17: 32693.4
B20: Concepto | D20: LISR | E20: LFT | F20: LSS | G20: LISR
B21: Salario mensual | E21: 7800 | F21: 7800 | G21: 7800
B22: Salario cuota diaria | E22: =+E21/30 -> 260 | F22: =+F21/30 -> 260 | G22: =+G21/30.4 -> 256.57895
B24: II. Cálculo de ISR
B25: Concepto | D25: Enero | E25: Febrero | F25: Marzo | G25: Abril | H25: Mayo | I25: Junio | J25: Julio | K25: Agosto | L25: Septiembre | M25: Octubre | N25: Noviembre | O25: Diciembre | P25: Totales
B26: Salario mensual | D26: =+$G$21 -> 7800 | E26: =+$G$21 -> 7800 | F26: =+$G$21 -> 7800 | G26: =+$G$21 -> 7800 | H26: =+$G$21 -> 7800 | I26: =+$G$21 -> 7800 | J26: =+$G$21 -> 7800 | K26: =+$G$21 -> 7800 | ... O26: =+$G$21 -> 7800 | P26: =SUM(D26:O26) -> 93600
A27: (+) | B27: Otras percepciones | D27: 0 | E27: 0 | F27: 0 | G27: 0 | H27: =+E44 -> 7155.7 | I27: 0 | J27: 0 | K27: 0 | L27: 0 | M27: 0 | N27: 0 | O27: =+E58 -> 1211.4
A28: (=) | B28: Base gravable | D28: =+D26+D27 -> 7800 | E28: =+E26+E27 -> 7800 | F28: =+F26+F27 -> 7800 | G28: =+G26+G27 -> 7800 | H28: =+H26+H27 -> 14955.7 | I28: =+I26+I27 -> 7800 | J28: =+J26+J27 -> 7800 | K28: =+K26+K27 -> 7800 | ... O28: =+O26+O27 -> 9011.4
A29: (-) | B29: Límite inferior | D29: =VLOOKUP(D28,Tarifas!$B$3:$E$16,1) -> 5470.93 | E29: =VLOOKUP(E28,Tarifas!$B$3:$E$16,1) -> 5470.93 | F29: =VLOOKUP(F28,Tarifas!$B$3:$E$16,1) -> 5470.93 | G29: =VLOOKUP(G28,Tarifas!$B$3:$E$16,1) -> 5470.93 | H29: =VLOOKUP(H28,Tarifas!$B$3:$E$16,1) -> 13381.48 | I29: =VLOOKUP(I28,Tarifas!$B$3:$E$16,1) -> 5470.93 | J29: =VLOOKUP(J28,Tarifas!$B$3:$E$16,1) -> 5470.93 | K29: =VLOOKUP(K28,Tarifas!$B$3:$E$16,1) -> 5470.93 | ... O29: =VLOOKUP(O28,Tarifas!$B$3:$E$16,1) -> 5470.93
A30: (=) | B30: Excedente | D30: =+D28-D29 -> 2329.07 | E30: =+E28-E29 -> 2329.07 | F30: =+F28-F29 -> 2329.07 | G30: =+G28-G29 -> 2329.07 | H30: =+H28-H29 -> 1574.22 | I30: =+I28-I29 -> 2329.07 | J30: =+J28-J29 -> 2329.07 | K30: =+K28-K29 -> 2329.07 | ... O30: =+O28-O29 -> 3540.47
A31: (x) | B31: % sobre excedente | D31: =VLOOKUP(D28,Tarifas!$B$3:$E$16,4)/100 -> 0.1088 | E31: =VLOOKUP(E28,Tarifas!$B$3:$E$16,4)/100 -> 0.1088 | F31: =VLOOKUP(F28,Tarifas!$B$3:$E$16,4)/100 -> 0.1088 | G31: =VLOOKUP(G28,Tarifas!$B$3:$E$16,4)/100 -> 0.1088 | H31: =VLOOKUP(H28,Tarifas!$B$3:$E$16,4)/100 -> 0.2136 | I31: =VLOOKUP(I28,Tarifas!$B$3:$E$16,4)/100 -> 0.1088 | J31: =VLOOKUP(J28,Tarifas!$B$3:$E$16,4)/100 -> 0.1088 | K31: =VLOOKUP(K28,Tarifas!$B$3:$E$16,4)/100 -> 0.1088 | ... O31: =VLOOKUP(O28,Tarifas!$B$3:$E$16,4)/100 -> 0.1088
A32: (=) | B32: Impuesto marginal | D32: =+D30*D31 -> 253.40282 | E32: =+E30*E31 -> 253.40282 | F32: =+F30*F31 -> 253.40282 | G32: =+G30*G31 -> 253.40282 | H32: =+H30*H31 -> 336.25339 | I32: =+I30*I31 -> 253.40282 | J32: =+J30*J31 -> 253.40282 | K32: =+K30*K31 -> 253.40282 | ... O32: =+O30*O31 -> 385.20314
A33: (+) | B33: Cuota fija | D33: =VLOOKUP(D28,Tarifas!$B$3:$E$16,3) -> 321.26 | E33: =VLOOKUP(E28,Tarifas!$B$3:$E$16,3) -> 321.26 | F33: =VLOOKUP(F28,Tarifas!$B$3:$E$16,3) -> 321.26 | G33: =VLOOKUP(G28,Tarifas!$B$3:$E$16,3) -> 321.26 | H33: =VLOOKUP(H28,Tarifas!$B$3:$E$16,3) -> 1417.12 | I33: =VLOOKUP(I28,Tarifas!$B$3:$E$16,3) -> 321.26 | J33: =VLOOKUP(J28,Tarifas!$B$3:$E$16,3) -> 321.26 | K33: =VLOOKUP(K28,Tarifas!$B$3:$E$16,3) -> 321.26 | ... O33: =VLOOKUP(O28,Tarifas!$B$3:$E$16,3) -> 321.26
A34: (=) | B34: ISR determinado | D34: =+D32+D33 -> 574.66282 | E34: =+E32+E33 -> 574.66282 | F34: =+F32+F33 -> 574.66282 | G34: =+G32+G33 -> 574.66282 | H34: =+H32+H33 -> 1753.3734 | I34: =+I32+I33 -> 574.66282 | J34: =+J32+J33 -> 574.66282 | K34: =+K32+K33 -> 574.66282 | ... O34: =+O32+O33 -> 706.46314
A35: (-) | B35: Subsidio para el empleo | D35: =VLOOKUP(D28,Tarifas!$B$20:$D$33,3) -> 0 | E35: =VLOOKUP(E28,Tarifas!$B$20:$D$33,3) -> 0 | F35: =VLOOKUP(F28,Tarifas!$B$20:$D$33,3) -> 0 | G35: =VLOOKUP(G28,Tarifas!$B$20:$D$33,3) -> 0 | H35: =VLOOKUP(H28,Tarifas!$B$20:$D$33,3) -> 0 | I35: =VLOOKUP(I28,Tarifas!$B$20:$D$33,3) -> 0 | J35: =VLOOKUP(J28,Tarifas!$B$20:$D$33,3) -> 0 | K35: =VLOOKUP(K28,Tarifas!$B$20:$D$33,3) -> 0 | ... O35: =VLOOKUP(O28,Tarifas!$B$20:$D$33,3) -> 0 | P35: =SUM(D35:O35) -> 0
A36: (=) | B36: ISR a retener | D36: =+D34-D35 -> 574.66282 | E36: =+E34-E35 -> 574.66282 | F36: =+F34-F35 -> 574.66282 | G36: =+G34-G35 -> 574.66282 | H36: =+H34-H35 -> 1753.3734 | I36: =+I34-I35 -> 574.66282 | J36: =+J34-J35 -> 574.66282 | K36: =+K34-K35 -> 574.66282 | ... O36: =+O34-O35 -> 706.46314 | P36: =SUM(D36:O36) -> 8206.4647
B39: III. Partes exentas de pagos por salarios y en general por un servicio personal subordinado
B40: Cálculo de PTU | E40: Importes
B41: Importe de la PTU pagada | E41: 8500
B42: UMA | E42: =+G16 -> 89.62
B43: PTU exenta | E43: =IF(E41>(E42*30),E42*15,E41) -> 1344.3 | F43: (89.62 x 15 días) | H43: Art. 123 LFT, Art. 9 LISR, Art. 93, fracción XIV LISR
B44: PTU gravada | E44: =+E41-E43 -> 7155.7
B47: Cálculo de prima vacacional | E47: Importes
B48: Importe de prima vacacional | E48: =E22*(6*0.25) -> 390 | F48: (260 x 6 días x 25%)
B49: UMA | E49: =+G16 -> 89.62
B50: Prima vacacional exenta | E50: =IF(E48>(E49*30),E49*15,E48) -> 390 | F50: (89.62 x 15 días) | H50: Art. 80 LFT, Art. 93, fracción XIV LISR
B51: Prima vacacional gravada | E51: =+E48-E50 -> 0
B54: Cálculo del aguinaldo | E54: Importes
B55: Importe del aguinaldo | E55: =+E22*15 -> 3900 | F55: (260 x 15 días)
B56: UMA | E56: =+G16 -> 89.62
B57: Aguinaldo exento | E57: =IF(E55>(E56*30),E56*30,E55) -> 2688.6 | F57: (89.62 x 30 días) | H57: Art. 87 LFT, Art. 93, fracción XIV LISR
B58: Aguinaldo gravado | E58: =+E55-E57 -> 1211.4
B63: IV. Conceptos asimilados Art. 94, fracción V y Art. 96 LISR
...

Sheet Caso 3
B10: 3. Caso de ingresos por salarios con viáticos, intereses y préstamos
B12: I. Datos
B13: Información permanente | E13: 2019 | F13: 2020 | G13: 2021
B14: Salario Mínimo General | E14: 102.68 | F14: 123.22 | G14: 141.7
B15: Salario Mínimo General RFN | E15: 176.72 | F15: 185.56 | G15: 213.39
B16: UMA diaria | E16: 84.49 | F16: 86.88 | G16: 89.62
B17: UMA anual | E17: 30822 | F17: 31693.8 | G17: 32693.4
B20: Concepto | D20: LISR | E20: LFT | F20: LSS | G20: LISR
B21: Salario mensual | E21: 8000 | F21: 8000 | G21: 8000
B22: Salario cuota diaria | E22: =+E21/30 -> 266.66667 | F22: =+F21/30 -> 266.66667 | G22: =+G21/30.4 -> 263.15789
B24: II. Cálculo de ISR
B25: Concepto | D25: Enero | E25: Febrero | F25: Marzo | G25: Abril | H25: Mayo | I25: Junio | J25: Julio | K25: Agosto | L25: Septiembre | M25: Octubre | N25: Noviembre | O25: Diciembre | P25: Totales
B26: Salario mensual | D26: =+$G$21 -> 8000 | E26: =+$G$21 -> 8000 | F26: =+$G$21 -> 8000 | G26: =+$G$21 -> 8000 | H26: =+$G$21 -> 8000 | I26: =+$G$21 -> 8000 | J26: =+$G$21 -> 8000 | K26: =+$G$21 -> 8000 | ... O26: =+$G$21 -> 8000 | P26: =SUM(D26:O26) -> 96000
A27: (+) | B27: Otras percepciones | D27: 0 | E27: 0 | F27: 0 | G27: 0 | H27: 0 | I27: 0 | J27: 0 | K27: 0 | L27: 0 | M27: 0 | N27: 0 | O27: =+E53 -> 1311.4
A28: (=) | B28: Base gravable | D28: =+D26+D27 -> 8000 | E28: =+E26+E27 -> 8000 | F28: =+F26+F27 -> 8000 | G28: =+G26+G27 -> 8000 | H28: =+H26+H27 -> 8000 | I28: =+I26+I27 -> 8000 | J28: =+J26+J27 -> 8000 | K28: =+K26+K27 -> 8000 | ... O28: =+O26+O27 -> 9311.4
A29: (-) | B29: Límite inferior | D29: =VLOOKUP(D28,Tarifas!$B$3:$E$16,1) -> 5470.93 | E29: =VLOOKUP(E28,Tarifas!$B$3:$E$16,1) -> 5470.93 | F29: =VLOOKUP(F28,Tarifas!$B$3:$E$16,1) -> 5470.93 | G29: =VLOOKUP(G28,Tarifas!$B$3:$E$16,1) -> 5470.93 | H29: =VLOOKUP(H28,Tarifas!$B$3:$E$16,1) -> 5470.93 | I29: =VLOOKUP(I28,Tarifas!$B$3:$E$16,1) -> 5470.93 | J29: =VLOOKUP(J28,Tarifas!$B$3:$E$16,1) -> 5470.93 | K29: =VLOOKUP(K28,Tarifas!$B$3:$E$16,1) -> 5470.93 | ... O29: =VLOOKUP(O28,Tarifas!$B$3:$E$16,1) -> 5470.93
A30: (=) | B30: Excedente | D30: =+D28-D29 -> 2529.07 | E30: =+E28-E29 -> 2529.07 | F30: =+F28-F29 -> 2529.07 | G30: =+G28-G29 -> 2529.07 | H30: =+H28-H29 -> 2529.07 | I30: =+I28-I29 -> 2529.07 | J30: =+J28-J29 -> 2529.07 | K30: =+K28-K29 -> 2529.07 | ... O30: =+O28-O29 -> 3840.47
A31: (x) | B31: % sobre excedente | D31: =VLOOKUP(D28,Tarifas!$B$3:$E$16,4)/100 -> 0.1088 | E31: =VLOOKUP(E28,Tarifas!$B$3:$E$16,4)/100 -> 0.1088 | F31: =VLOOKUP(F28,Tarifas!$B$3:$E$16,4)/100 -> 0.1088 | G31: =VLOOKUP(G28,Tarifas!$B$3:$E$16,4)/100 -> 0.1088 | H31: =VLOOKUP(H28,Tarifas!$B$3:$E$16,4)/100 -> 0.1088 | I31: =VLOOKUP(I28,Tarifas!$B$3:$E$16,4)/100 -> 0.1088 | J31: =VLOOKUP(J28,Tarifas!$B$3:$E$16,4)/100 -> 0.1088 | K31: =VLOOKUP(K28,Tarifas!$B$3:$E$16,4)/100 -> 0.1088 | ... O31: =VLOOKUP(O28,Tarifas!$B$3:$E$16,4)/100 -> 0.1088
A32: (=) | B32: Impuesto marginal | D32: =+D30*D31 -> 275.16282 | E32: =+E30*E31 -> 275.16282 | F32: =+F30*F31 -> 275.16282 | G32: =+G30*G31 -> 275.16282 | H32: =+H30*H31 -> 275.16282 | I32: =+I30*I31 -> 275.16282 | J32: =+J30*J31 -> 275.16282 | K32: =+K30*K31 -> 275.16282 | ... O32: =+O30*O31 -> 417.84314
A33: (+) | B33: Cuota fija | D33: =VLOOKUP(D28,Tarifas!$B$3:$E$16,3) -> 321.26 | E33: =VLOOKUP(E28,Tarifas!$B$3:$E$16,3) -> 321.26 | F33: =VLOOKUP(F28,Tarifas!$B$3:$E$16,3) -> 321.26 | G33: =VLOOKUP(G28,Tarifas!$B$3:$E$16,3) -> 321.26 | H33: =VLOOKUP(H28,Tarifas!$B$3:$E$16,3) -> 321.26 | I33: =VLOOKUP(I28,Tarifas!$B$3:$E$16,3) -> 321.26 | J33: =VLOOKUP(J28,Tarifas!$B$3:$E$16,3) -> 321.26 | K33: =VLOOKUP(K28,Tarifas!$B$3:$E$16,3) -> 321.26 | ... O33: =VLOOKUP(O28,Tarifas!$B$3:$E$16,3) -> 321.26
A34: (=) | B34: ISR determinado | D34: =+D32+D33 -> 596.42282 | E34: =+E32+E33 -> 596.42282 | F34: =+F32+F33 -> 596.42282 | G34: =+G32+G33 -> 596.42282 | H34: =+H32+H33 -> 596.42282 | I34: =+I32+I33 -> 596.42282 | J34: =+J32+J33 -> 596.42282 | K34: =+K32+K33 -> 596.42282 | ... O34: =+O32+O33 -> 739.10314
A35: (-) | B35: Subsidio para el empleo | D35: =VLOOKUP(D28,Tarifas!$B$20:$D$33,3) -> 0 | E35: =VLOOKUP(E28,Tarifas!$B$20:$D$33,3) -> 0 | F35: =VLOOKUP(F28,Tarifas!$B$20:$D$33,3) -> 0 | G35: =VLOOKUP(G28,Tarifas!$B$20:$D$33,3) -> 0 | H35: =VLOOKUP(H28,Tarifas!$B$20:$D$33,3) -> 0 | I35: =VLOOKUP(I28,Tarifas!$B$20:$D$33,3) -> 0 | J35: =VLOOKUP(J28,Tarifas!$B$20:$D$33,3) -> 0 | K35: =VLOOKUP(K28,Tarifas!$B$20:$D$33,3) -> 0 | ... O35: =VLOOKUP(O28,Tarifas!$B$20:$D$33,3) -> 0 | P35: =SUM(D35:O35) -> 0
A36: (=) | B36: ISR a retener | D36: =+D34-D35 -> 596.42282 | E36: =+E34-E35 -> 596.42282 | F36: =+F34-F35 -> 596.42282 | G36: =+G34-G35 -> 596.42282 | H36: =+H34-H35 -> 596.42282 | I36: =+I34-I35 -> 596.42282 | J36: =+J34-J35 -> 596.42282 | K36: =+K34-K35 -> 596.42282 | ... O36: =+O34-O35 -> 739.10314 | P36: =SUM(D36:O36) -> 7299.7541
B39: III. Partes exentas de pagos por salarios y en general por un servicio personal subordinado
B42: Cálculo de prima vacacional | E42: Importes
B43: Importe de prima vacacional | E43: =E22*(6*0.25) -> 400 | F43: (266.67 x 8 días x 25%)
B44: UMA | E44: =+G16 -> 89.62
B45: Prima vacacional exenta | E45: =IF(E43>(E44*30),E44*15,E43) -> 400 | F45: (89.62 x 15 días) | H45: Art. 80 LFT, Art. 93, fracción XIV LISR
B46: Prima vacacional gravada | E46: =+E43-E45 -> 0
B49: Cálculo del aguinaldo | E49: Importes
B50: Importe del aguinaldo | E50: =+E22*15 -> 4000 | F50: (266.67 x 15 días)
B51: UMA | E51: =+G16 -> 89.62
B52: Aguinaldo exento | E52: =IF(E50>(E51*30),E51*30,E50) -> 2688.6 | F52: (89.62 x 30 días) | H52: Art. 87 LFT, Art. 93, fracción XIV LISR
B53: Aguinaldo gravado | E53: =+E50-E52 -> 1311.4
B56: Viáticos 2021 | E56: Importes
B57: Viáticos entregados | E57: 13268 | F57: 1 Dispersión en el año
B58: Viáticos comprobados | E58: 11000
B59: Viaticos no comprobados | E59: =+E57-E58 -> 2268 | F59: Alimentación | H59: Art. 93, fracción XVII, Art. 28, fracción V LISR y Art. 152 RLISR
B60: ¿Viáticos gravados? | E60: =+E59 -> 2268
B65: IV. Intereses Art. 134 y 135 LISR
...

Sheet Caso 4
B10: 4. Caso de ingresos por salarios con honorarios y arrendamiento
B12: I. Datos
B13: Información permanente | E13: 2019 | F13: 2020 | G13: 2021
B14: Salario Mínimo General | E14: 102.68 | F14: 123.22 | G14: 141.7
B15: Salario Mínimo General RFN | E15: 176.72 | F15: 185.56 | G15: 213.39
B16: UMA diaria | E16: 84.49 | F16: 86.88 | G16: 89.62
B17: UMA anual | E17: 30822 | F17: 31693.8 | G17: 32693.4
B20: Concepto | D20: LISR | E20: LFT | F20: LSS | G20: LISR
B21: Salario mensual | E21: 8000 | F21: 8000 | G21: 8000
B22: Salario cuota diaria | E22: =+E21/30 -> 266.66667 | F22: =+F21/30 -> 266.66667 | G22: =+G21/30.4 -> 263.15789
B24: II. Cálculo de ISR
B25: Concepto | D25: Enero | E25: Febrero | F25: Marzo | G25: Abril | H25: Mayo | I25: Junio | J25: Julio | K25: Agosto | L25: Septiembre | M25: Octubre | N25: Noviembre | O25: Diciembre | P25: Totales
B26: Salario mensual | D26: =+$G$21 -> 8000 | E26: =+$G$21 -> 8000 | F26: =+$G$21 -> 8000 | G26: =+$G$21 -> 8000 | H26: =+$G$21 -> 8000 | I26: =+$G$21 -> 8000 | J26: =+$G$21 -> 8000 | K26: =+$G$21 -> 8000 | ... O26: =+$G$21 -> 8000 | P26: =SUM(D26:O26) -> 96000
A27: (+) | B27: Otras percepciones | D27: 0 | E27: 0 | F27: 0 | G27: 0 | H27: 0 | I27: 0 | J27: 0 | K27: 0 | L27: 0 | M27: 0 | N27: 0 | O27: =+E53 -> 1311.4
A28: (=) | B28: Base gravable | D28: =+D26+D27 -> 8000 | E28: =+E26+E27 -> 8000 | F28: =+F26+F27 -> 8000 | G28: =+G26+G27 -> 8000 | H28: =+H26+H27 -> 8000 | I28: =+I26+I27 -> 8000 | J28: =+J26+J27 -> 8000 | K28: =+K26+K27 -> 8000 | ... O28: =+O26+O27 -> 9311.4
A29: (-) | B29: Límite inferior | D29: =VLOOKUP(D28,Tarifas!$B$3:$E$16,1) -> 5470.93 | E29: =VLOOKUP(E28,Tarifas!$B$3:$E$16,1) -> 5470.93 | F29: =VLOOKUP(F28,Tarifas!$B$3:$E$16,1) -> 5470.93 | G29: =VLOOKUP(G28,Tarifas!$B$3:$E$16,1) -> 5470.93 | H29: =VLOOKUP(H28,Tarifas!$B$3:$E$16,1) -> 5470.93 | I29: =VLOOKUP(I28,Tarifas!$B$3:$E$16,1) -> 5470.93 | J29: =VLOOKUP(J28,Tarifas!$B$3:$E$16,1) -> 5470.93 | K29: =VLOOKUP(K28,Tarifas!$B$3:$E$16,1) -> 5470.93 | ... O29: =VLOOKUP(O28,Tarifas!$B$3:$E$16,1) -> 5470.93
A30: (=) | B30: Excedente | D30: =+D28-D29 -> 2529.07 | E30: =+E28-E29 -> 2529.07 | F30: =+F28-F29 -> 2529.07 | G30: =+G28-G29 -> 2529.07 | H30: =+H28-H29 -> 2529.07 | I30: =+I28-I29 -> 2529.07 | J30: =+J28-J29 -> 2529.07 | K30: =+K28-K29 -> 2529.07 | ... O30: =+O28-O29 -> 3840.47
A31: (x) | B31: % sobre excedente | D31: =VLOOKUP(D28,Tarifas!$B$3:$E$16,4)/100 -> 0.1088 | E31: =VLOOKUP(E28,Tarifas!$B$3:$E$16,4)/100 -> 0.1088 | F31: =VLOOKUP(F28,Tarifas!$B$3:$E$16,4)/100 -> 0.1088 | G31: =VLOOKUP(G28,Tarifas!$B$3:$E$16,4)/100 -> 0.1088 | H31: =VLOOKUP(H28,Tarifas!$B$3:$E$16,4)/100 -> 0.1088 | I31: =VLOOKUP(I28,Tarifas!$B$3:$E$16,4)/100 -> 0.1088 | J31: =VLOOKUP(J28,Tarifas!$B$3:$E$16,4)/100 -> 0.1088 | K31: =VLOOKUP(K28,Tarifas!$B$3:$E$16,4)/100 -> 0.1088 | ... O31: =VLOOKUP(O28,Tarifas!$B$3:$E$16,4)/100 -> 0.1088
A32: (=) | B32: Impuesto marginal | D32: =+D30*D31 -> 275.16282 | E32: =+E30*E31 -> 275.16282 | F32: =+F30*F31 -> 275.16282 | G32: =+G30*G31 -> 275.16282 | H32: =+H30*H31 -> 275.16282 | I32: =+I30*I31 -> 275.16282 | J32: =+J30*J31 -> 275.16282 | K32: =+K30*K31 -> 275.16282 | ... O32: =+O30*O31 -> 417.84314
A33: (+) | B33: Cuota fija | D33: =VLOOKUP(D28,Tarifas!$B$3:$E$16,3) -> 321.26 | E33: =VLOOKUP(E28,Tarifas!$B$3:$E$16,3) -> 321.26 | F33: =VLOOKUP(F28,Tarifas!$B$3:$E$16,3) -> 321.26 | G33: =VLOOKUP(G28,Tarifas!$B$3:$E$16,3) -> 321.26 | H33: =VLOOKUP(H28,Tarifas!$B$3:$E$16,3) -> 321.26 | I33: =VLOOKUP(I28,Tarifas!$B$3:$E$16,3) -> 321.26 | J33: =VLOOKUP(J28,Tarifas!$B$3:$E$16,3) -> 321.26 | K33: =VLOOKUP(K28,Tarifas!$B$3:$E$16,3) -> 321.26 | ... O33: =VLOOKUP(O28,Tarifas!$B$3:$E$16,3) -> 321.26
A34: (=) | B34: ISR determinado | D34: =+D32+D33 -> 596.42282 | E34: =+E32+E33 -> 596.42282 | F34: =+F32+F33 -> 596.42282 | G34: =+G32+G33 -> 596.42282 | H34: =+H32+H33 -> 596.42282 | I34: =+I32+I33 -> 596.42282 | J34: =+J32+J33 -> 596.42282 | K34: =+K32+K33 -> 596.42282 | ... O34: =+O32+O33 -> 739.10314
A35: (-) | B35: Subsidio para el empleo | D35: =VLOOKUP(D28,Tarifas!$B$20:$D$33,3) -> 0 | E35: =VLOOKUP(E28,Tarifas!$B$20:$D$33,3) -> 0 | F35: =VLOOKUP(F28,Tarifas!$B$20:$D$33,3) -> 0 | G35: =VLOOKUP(G28,Tarifas!$B$20:$D$33,3) -> 0 | H35: =VLOOKUP(H28,Tarifas!$B$20:$D$33,3) -> 0 | I35: =VLOOKUP(I28,Tarifas!$B$20:$D$33,3) -> 0 | J35: =VLOOKUP(J28,Tarifas!$B$20:$D$33,3) -> 0 | K35: =VLOOKUP(K28,Tarifas!$B$20:$D$33,3) -> 0 | ... O35: =VLOOKUP(O28,Tarifas!$B$20:$D$33,3) -> 0 | P35: =SUM(D35:O35) -> 0
A36: (=) | B36: ISR a retener | D36: =+D34-D35 -> 596.42282 | E36: =+E34-E35 -> 596.42282 | F36: =+F34-F35 -> 596.42282 | G36: =+G34-G35 -> 596.42282 | H36: =+H34-H35 -> 596.42282 | I36: =+I34-I35 -> 596.42282 | J36: =+J34-J35 -> 596.42282 | K36: =+K34-K35 -> 596.42282 | ... O36: =+O34-O35 -> 739.10314 | P36: =SUM(D36:O36) -> 7299.7541
B39: III. Partes exentas de pagos por salarios y en general por un servicio personal subordinado
B42: Cálculo de prima vacacional | E42: Importes
B43: Importe de prima vacacional | E43: =E22*(6*0.25) -> 400 | F43: (266.67 x 8 días x 25%)
B44: UMA | E44: =+G16 -> 89.62
B45: Prima vacacional exenta | E45: =IF(E43>(E44*30),E44*15,E43) -> 400 | F45: (89.62x 15 días) | H45: Art. 80 LFT, Art. 93, fracción XIV LISR
B46: Prima vacacional gravada | E46: =+E43-E45 -> 0
B49: Cálculo del aguinaldo | E49: Importes
B50: Importe del aguinaldo | E50: =+E22*15 -> 4000 | F50: (266.67 x 15 días)
B51: UMA | E51: =+G16 -> 89.62
B52: Aguinaldo exento | E52: =IF(E50>(E51*30),E51*30,E50) -> 2688.6 | F52: (89.62 x 30 días) | H52: Art. 87 LFT, Art. 93, fracción XIV LISR
B53: Aguinaldo gravado | E53: =+E50-E52 -> 1311.4
B58: IV. Actividad profesional por servicios prestados a personas morales | H58: Art.109 LISR
A60: Conceptos | F60: Enero | G60: Febrero | H60: Marzo | I60: Abril | J60: Mayo | K60: Junio | L60: Julio | M60: Agosto | N60: Septiembre | O60: Octubre | P60: Noviembre | Q60: Diciembre | R60: Total
B61: Ingresos por actividad empresarial | F61: 0 | G61: 0 | H61: 0 | I61: 0 | J61: 0 | K61: 0 | L61: 0 | M61: 0 | N61: 0 | O61: 0 | P61: 0 | Q61: 0 | R61: =SUM(F61:Q61) -> 0
A62: (+) | B62: Ingresos por actividad profesional | F62: 12500 | G62: 8900 | H62: 13600 | I62: 20000 | J62: 8965 | K62: 7500 | L62: 6200 | M62: 15000 | N62: 18000 | O62: 20000 | P62: 35000 | Q62: 25000 | R62: =SUM(F62:Q62) -> 190665
A63: (=) | B63: Total de ingresos | F63: =SUM(F61:F62) -> 12500 | G63: =SUM(G61:G62) -> 8900 | H63: =SUM(H61:H62) -> 13600 | I63: =SUM(I61:I62) -> 20000 | J63: =SUM(J61:J62) -> 8965 | K63: =SUM(K61:K62) -> 7500 | L63: =SUM(L61:L62) -> 6200 | M63: =SUM(M61:M62) -> 15000 | ... Q63: =SUM(Q61:Q62) -> 25000 | R63: =SUM(F63:Q63) -> 190665
B65: IV.I Pagos provisionales mensuales
...

Sheet Caso 5
B10: 5. Caso de actividad empresarial y profesional
B12: I. Datos
B13: Información permanente | E13: 2019 | F13: 2020 | G13: 2021
B14: Salario Mínimo General | E14: 102.68 | F14: 123.22 | G14: 141.7
B15: Salario Mínimo General RFN | E15: 176.72 | F15: 185.56 | G15: 213.39
B16: UMA diaria | E16: 84.49 | F16: 86.88 | G16: 89.62
B17: UMA anual | E17: 30822 | F17: 31693.8 | G17: 32693.4
B19: II. Enajenación de bienes de activo fijo
E21: Art. 31 LISR
B22: Ganancia en la enajenación de camioneta
B23: MOI | D23: 365000
B24: Fecha de adquisición | D24: 15 de diciembre de 2019
B25: Precio de venta | D25: 290000
B26: Fecha de enajenación | D26: 20 de julio de 2021
B27: % máximo de deducción | D27: 0.25
B29: I. Saldo por deducir actualizado
B30: MOI histórico | E30: =+D23 -> 365000
A31: (-) | B31: Deducción acum. al 31-Dic-2019 | E31: =+D23*0.25 -> 91250
A32: (-) | B32: Deducción acum. Ene-21 a Jun-21 | E32: =+D23*0.25/12*6 -> 45625
A33: (=) | B33: Parte del monto no deducida | E33: =+E30-E31-E32 -> 228125
B35: INPC de marzo 2021 | D35: =+INPC!B645 -> 111.824 | E35: =TRUNC(D35/D36, 4) -> 1.0556 | G35: Enero | H35: Febrero | I35: Marzo | J35: Abril | K35: Mayo | L35: Junio | M35: Julio
B36: INPC de diciembre 2019 | D36: =+INPC!B630 -> 105.934
B38: Saldo por deducir actualizado | E38: =+E33*E35 -> 240808.75
B40: II. Ganancia en la enajenación
B41: Precio de venta | E41: =+D25 -> 290000
A42: (-) | B42: Saldo por deducir actualizado | E42: =+E38 -> 240808.75
A43: (=) | B43: Ganancia o pérdida en enajenación | E43: =+E41-E42 -> 49191.25
B46: III. Deducción de inversiones Art. 31 y 34 de la LISR
B48: Concepto | E48: Fecha de Adq. | F48: MOI | G48: % deducción | H48: Deducción Acumulada | I48: Saldo pendiente de deducir | J48: Deducción anual | K48: Deducción mensual | L48: Meses de uso | M48: Deducción Histórica | N48: INPC último mes 1a mitad | O48: INPC adquisición | P48: Factor de Actualización | Q48: Deducción Actualizada
B49: Mobiliario y equipo de oficina | E49: 42856 | F49: 50000 | G49: 0.1 | H49: 17920 | I49: =+F49-H49 -> 32080 | J49: =+F49*G49 -> 5000 | K49: =+J49/12 -> 416.66667 | L49: 12 | M49: =+K49*L49 -> 5000 | N49: =+INPC!B648 -> 113.018 | O49: =+INPC!B599 -> 94.725494 | P49: =TRUNC(N49/O49, 4) -> 1.1931 | Q49: =+M49*P49 -> 5965.5
B50: Equipo de reparto | E50: 43101 | F50: 240000 | G50: 0.25 | H50: 180000 | I50: =+F50-H50 -> 60000 | J50: =+F50*G50 -> 60000 | K50: =+J50/12 -> 5000 | L50: 12 | M50: =+K50*L50 -> 60000 | N50: =+INPC!B648 -> 113.018 | O50: =+INPC!B607 -> 98.795 | P50: =TRUNC(N50/O50, 4) -> 1.1439 | Q50: =+M50*P50 -> 68634
B51: Equipo de cómputo | E51: 43709 | F51: 150000 | G51: 0.3 | H51: 60000 | I51: =+F51-H51 -> 90000 | J51: =+F51*G51 -> 45000 | K51: =+J51/12 -> 3750 | L51: 12 | M51: =+K51*L51 -> 45000 | N51: =+INPC!B648 -> 113.018 | O51: =+INPC!B627 -> 103.942 | P51: =TRUNC(N51/O51, 4) -> 1.0873 | Q51: =+M51*P51 -> 48928.5
B52: Total | F52: =SUM(F49:F51) -> 440000 | H52: =SUM(H49:H51) -> 257920 | I52: =SUM(I49:I51) -> 182080 | J52: =SUM(J49:J51) -> 110000 | K52: =SUM(K49:K51) -> 9166.6667 | M52: =SUM(M49:M51) -> 110000 | Q52: =SUM(Q49:Q51) -> 123528
F54: Enero | G54: Febrero | H54: Marzo | I54: Abril | J54: Mayo | K54: Junio | L54: Julio | M54: Agosto | N54: Septiembre | O54: Octubre | P54: Noviembre | Q54: Diciembre
F55: =+$M$52/12 -> 9166.6667 | G55: =+$M$52/12 -> 9166.6667 | H55: =+$M$52/12 -> 9166.6667 | I55: =+$M$52/12 -> 9166.6667 | J55: =+$M$52/12 -> 9166.6667 | K55: 15930.67 | L55: =+$Q$52/12 -> 10294 | M55: =+$Q$52/12 -> 10294 | N55: =+$Q$52/12 -> 10294 | O55: =+$Q$52/12 -> 10294 | P55: =+$Q$52/12 -> 10294 | Q55: =+$Q$52/12 -> 10294
K56: =+Q52/12*6 -> 61764 | R56: =+Q52/12 -> 10294
B58: IV. Pagos provisionales | E58: Art. 109 LISR
A60: Conceptos | F60: Enero | G60: Febrero | H60: Marzo | I60: Abril | J60: Mayo | K60: Junio | L60: Julio | M60: Agosto | N60: Septiembre | O60: Octubre | P60: Noviembre | Q60: Diciembre | R60: Total
B61: Ingresos por actividad empresarial | F61: 60000 | G61: 75000 | H61: 36000 | I61: 12000 | J61: 5870 | K61: 78000 | L61: =96000+E43 -> 145191.25 | M61: 120000 | N61: 89000 | O61: 75000 | P61: 32000 | Q61: 46000 | R61: =SUM(F61:Q61) -> 774061.25
A62: (+) | B62: Ingresos por actividad profesional | F62: 12500 | G62: 8900 | H62: 13600 | I62: 20000 | J62: 8965 | K62: 7500 | L62: 6200 | M62: 15000 | N62: 18000 | O62: 20000 | P62: 35000 | Q62: 25000 | R62: =SUM(F62:Q62) -> 190665
...

Sheet Caso 6
B10: 6. Caso de enajenación de bien inmueble
B12: I. Datos
B13: Ejercicio 2021
B14: Terreno y construcción en fechas distintas (uso comercial). Contribuyente no se dedica a enajenar inmuebles
B16: Fecha de enajenación: | D16: Agosto de 2021
B17: Precio de venta | D17: 8800000
B19: Terreno
B20: Costo de adquisición | D20: 1500000
B21: Mes de adquisición | D21: Marzo de 2009
B23: Construcción
B24: Costo incurrido | D24: 2500000
B25: Mes de entrega | D25: Junio de 2011
B28: II. Cálculo del costo comprobado de adquisición actualizado
B30: Terreno | F30: Importes | H30: Art. 124, fracción II
B31: Costo de adquisición | F31: =+D20 -> 1500000
B33: INPC mes anterior a enajenación (Jul-21) | E33: =+INPC!B649 -> 113.682 | F33: =TRUNC(E33/E34, 4) -> 1.6237
B34: INPC mes de adquisición (Mar-09) | E34: =+INPC!B501 -> 70.00995
B36: Costo comprobado de adquisición actualizado | F36: =+F31*F33 -> 2435550
B39: Construcción | F39: Importes
B40: Costo incurrido en construcción | F40: =+D24 -> 2500000 | H40: Art. 124, fracción II
B41: Deducción del 3% anual | F41: =+F40*0.03 -> 75000
A42: (x) | B42: Años transcurridos | F42: 10
B43: Parte deducida por tiempo transcurrido | F43: =+F41*F42 -> 750000
B45: Costo incurrido en construcción | F45: =+F40 -> 2500000
A46: (-) | B46: Deducción del 3% anual | F46: =+F43 -> 750000
A47: (=) | B47: Costo disminuido | F47: =+F45-F46 -> 1750000
B49: INPC mes anterior a enajenación (Jul-21) | E49: =+INPC!B649 -> 113.682 | F49: =TRUNC(E49/E50, 4) -> 1.5126
B50: INPC mes de adquisición (Jun-11) | E50: =+INPC!B528 -> 75.155508
B52: Costo comprobado actualizado | F52: =+F47*F49 -> 2647050
B54: III. Cálculo del pago provisional
B56: Concepto | C56: Contraprestación | D56: Costo Com. Ad. | E56: Ganancia | F56: Años | G56: Ganancia acum. | H56: Cociente | I56: P. Provisional | J56: Impto local | K56: ISR a cargo
B57: Terreno | C57: 3800000 | D57: =+F36 -> 2435550 | E57: =+C57-D57 -> 1364450 | F57: 12 | G57: =+E57/F57 -> 113704.17 | H57: =+E72 -> 0.1656 | I57: =(G57*H57)*F57 -> 225952.92 | J57: =+E57*0.05 -> 68222.5 | K57: =+I57-J57 -> 157730.42
B58: Construcción | C58: 5000000 | D58: =+F52 -> 2647050 | E58: =+C58-D58 -> 2352950 | F58: 10 | G58: =+E58/F58 -> 235295 | H58: =+E72 -> 0.1656 | I58: =(G58*H58)*F58 -> 389648.52 | J58: =+E58*0.05 -> 117647.5 | K58: =+I58-J58 -> 272001.02
C59: =SUM(C57:C58) -> 8800000 | D59: =SUM(D57:D58) -> 5082600 | E59: =SUM(E57:E58) -> 3717400 | G59: =SUM(G57:G58) -> 348999.17 | I59: =SUM(I57:I58) -> 615601.44 | J59: =SUM(J57:J58) -> 185870 | K59: =SUM(K57:K58) -> 429731.44
B61: Conceptos | E61: Importes
B62: Ganancia acumulable por enajenación | E62: =+G59 -> 348999.17
A63: (-) | B63: Límite inferior | E63: =VLOOKUP(E62,Tarifas!N3:Q16,1) -> 323862.01
A64: (=) | B64: Excedente | E64: =+E62-E63 -> 25137.157
A65: (x) | B65: % sobre excedente | E65: =VLOOKUP(E62,Tarifas!N3:Q16,4)/100 -> 0.2352
A66: (=) | B66: Impuesto marginal | E66: =+E64*E65 -> 5912.2592
...

Sheet Caso 7
B10: 6. Pago de dividendos
B12: I. Datos
B13: Ejercicio 2021
B14: Accionista que percibe pago de dividendos en 2021 en cantidad neta de $250,000.00
B16: II. Cálculo del ISR del ejercicio
B18: Conceptos | E18: Importes
B19: Ingresos por dividendos | E19: 250000
A20: (x) | B20: Factor de piramidación | E20: 1.4286
A21: (=) | B21: Monto del dividendo + ISR Corporativo | E21: =+E19*E20 -> 357150
A22: (x) | B22: Tasa del artículo 9 LISR | E22: 0.3
A23: (=) | B23: ISR pagado por la Persona Moral | E23: =+E21*E22 -> 107145
B25: Monto bruto del dividendo | E25: =+E21 -> 357150
A26: (-) | B26: ISR pagado por la Persona Moral | E26: =+E23 -> 107145
A27: (=) | B27: Dividendo percibido | E27: =+E25-E26 -> 250005
B29: Conceptos | E29: Escenario A | F29: Escenario B
B30: Dividendos percibidos | E30: =+E19 -> 250000 | F30: =+E27 -> 250005
A31: (+) | B31: ISR pagado por la Persona Moral | F31: =+E26 -> 107145
A32: (=) | B32: Base para ISR | E32: =+E30+E31 -> 250000 | F32: =+F30+F31 -> 357150
A33: (-) | B33: Límite inferior | E33: =VLOOKUP(E32,Tarifas!N3:Q16,1) -> 160577.66 | F33: =VLOOKUP(F32,Tarifas!N3:Q16,1) -> 323862.01
A34: (=) | B34: Excedente | E34: =+E32-E33 -> 89422.34 | F34: =+F32-F33 -> 33287.99
A35: (x) | B35: % sobre excedente | E35: =VLOOKUP(E32,Tarifas!N3:Q16,4)/100 -> 0.2136 | F35: =VLOOKUP(F32,Tarifas!N3:Q16,4)/100 -> 0.2352
A36: (=) | B36: Impuesto marginal | E36: =+E34*E35 -> 19100.612 | F36: =+F34*F35 -> 7829.3352
A37: (+) | B37: Cuota fija | E37: =VLOOKUP(E32,Tarifas!N3:Q16,3) -> 17005.47 | F37: =VLOOKUP(F32,Tarifas!N3:Q16,3) -> 51883.01
A38: (=) | B38: ISR determinado | E38: =+E36+E37 -> 36106.082 | F38: =+F36+F37 -> 59712.345
A39: (-) | B39: ISR pagado por la sociedad | E39: 0 | F39: =+E23 -> 107145
A40: (=) | B40: ISR a cargo | E40: =+E38-E39 -> 36106.082 | F40: =+F38-F39 -> -47432.655
B42: Retención ISR definitivo 10% | E42: =+E30*0.1 -> 25000 | F42: =+F30*0.1 -> 25000.5
B44: ISR neto pagado | E44: =+E40+E42 -> 61106.082 | F44: =+F40+F42 -> -22432.155

Sheet Tarifas
B1: Tarifa para salarios y arrendamiento | H1: Tarifa anual Ejercicio 2020 | N1: Tarifa anual Ejercicio 2021
B2: 2021
B3: Límite inferior | C3: Límite superior | D3: Cuota fija | E3: Por ciento para aplicarse sobre | H3: Límite inferior | I3: Límite superior | J3: Cuota fija | K3: Por ciento para aplicarse sobre | N3: Límite inferior | O3: Límite superior | P3: Cuota fija | Q3: Por ciento para aplicarse sobre
E4: el excedente del límite inferior | K4: el excedente del límite inferior | Q4: el excedente del límite inferior
B5: $ | C5: $ | D5: $ | E5: % | H5: $ | I5: $ | J5: $ | K5: % | N5: $ | O5: $ | P5: $ | Q5: %
B6: 0.01 | C6: 644.58 | D6: 0 | E6: 1.92 | H6: 0.01 | I6: 6942.2 | J6: 0 | K6: 1.92 | N6: 0.01 | O6: 7735 | P6: 0 | Q6: 1.92
B7: 644.59 | C7: 5470.92 | D7: 12.38 | E7: 6.4 | H7: 6942.21 | I7: 58922.16 | J7: 133.28 | K7: 6.4 | N7: 7735.01 | O7: 65651.07 | P7: 148.51 | Q7: 6.4
B8: 5470.93 | C8: 9614.66 | D8: 321.26 | E8: 10.88 | H8: 58922.17 | I8: 103550.44 | J8: 3460.01 | K8: 10.88 | N8: 65651.08 | O8: 115375.9 | P8: 3855.14 | Q8: 10.88
B9: 9614.67 | C9: 11176.62 | D9: 772.1 | E9: 16 | H9: 103550.45 | I9: 120372.83 | J9: 8315.57 | K9: 16 | N9: 115375.91 | O9: 134119.41 | P9: 9265.2 | Q9: 16
B10: 11176.63 | C10: 13381.47 | D10: 1022.01 | E10: 17.92 | H10: 120372.84 | I10: 144119.23 | J10: 11007.14 | K10: 17.92 | N10: 134119.42 | O10: 160577.65 | P10: 12264.16 | Q10: 17.92
B11: 13381.48 | C11: 26988.5 | D11: 1417.12 | E11: 21.36 | H11: 144119.24 | I11: 290667.75 | J11: 15262.49 | K11: 21.36 | N11: 160577.66 | O11: 323862 | P11: 17005.47 | Q11: 21.36
B12: 26988.51 | C12: 42537.58 | D12: 4323.58 | E12: 23.52 | H12: 290667.76 | I12: 458132.29 | J12: 46565.26 | K12: 23.52 | N12: 323862.01 | O12: 510451 | P12: 51883.01 | Q12: 23.52
B13: 42537.59 | C13: 81211.25 | D13: 7980.73 | E13: 30 | H13: 458132.3 | I13: 874650 | J13: 85952.92 | K13: 30 | N13: 510451.01 | O13: 974535.03 | P13: 95768.74 | Q13: 30
B14: 81211.26 | C14: 108281.67 | D14: 19582.83 | E14: 32 | H14: 874650.01 | I14: 1166200 | J14: 210908.23 | K14: 32 | N14: 974535.04 | O14: 1299380 | P14: 234993.95 | Q14: 32
B15: 108281.68 | C15: 324845.01 | D15: 28245.36 | E15: 34 | H15: 1166200 | I15: 3498600 | J15: 304204.21 | K15: 34 | N15: 1299380.1 | O15: 3898140.1 | P15: 338944.34 | Q15: 34
B16: 324845.02 | C16: En adelante | D16: 101876.9 | E16: 35 | H16: 3498600 | I16: En adelante | J16: 1097220.2 | K16: 35 | N16: 3898140.1 | O16: En adelante | P16: 1222522.8 | Q16: 35
B21: Para Ingresos de | C21: Hasta Ingresos de | D21: Cantidad de subsidio para el empleo mensual
B22: $ | C22: $ | D22: $
B23: 0.01 | C23: 1768.96 | D23: 407.02
B24: 1768.97 | C24: 2653.38 | D24: 406.83
B25: 2653.39 | C25: 3472.84 | D25: 406.62
B26: 3472.85 | C26: 3537.87 | D26: 392.77
B27: 3537.88 | C27: 4446.15 | D27: 382.46
B28: 4446.16 | C28: 4717.18 | D28: 354.23
B29: 4717.19 | C29: 5335.42 | D29: 324.87
B30: 5335.43 | C30: 6224.67 | D30: 294.63
B31: 6224.68 | C31: 7113.9 | D31: 253.54
B32: 7113.91 | C32: 7382.33 | D32: 217.61
B33: 7382.34 | C33: En adelante | D33: 0
B36: Tarifas para actividad empresarial y profesional
C38: Enero | I38: Abril | O38: Julio | U38: Octubre
B39: Límite inferior | C39: Límite superior | D39: Cuota fija | E39: Por ciento para aplicarse sobre | H39: Límite inferior | I39: Límite superior | J39: Cuota fija | K39: Por ciento para aplicarse sobre | N39: Límite inferior | O39: Límite superior | P39: Cuota fija | Q39: Por ciento para aplicarse sobre | T39: Límite inferior | U39: Límite superior | V39: Cuota fija | W39: Por ciento para aplicarse sobre
E40: el excedente del límite inferior | K40: el excedente del límite inferior | Q40: el excedente del límite inferior | W40: el excedente del límite inferior
B41: $ | C41: $ | D41: $ | E41: % | H41: $ | I41: $ | J41: $ | K41: % | N41: $ | O41: $ | P41: $ | Q41: % | T41: $ | U41: $ | V41: $ | W41: %
B42: 0.01 | C42: 644.58 | D42: 0 | E42: 1.92 | H42: 0.01 | I42: 2578.32 | J42: 0 | K42: 1.92 | N42: 0.01 | O42: 4512.06 | P42: 0 | Q42: 1.92 | T42: 0.01 | U42: 6445.8 | V42: 0 | W42: 1.92
B43: 644.59 | C43: 5470.92 | D43: 12.38 | E43: 6.4 | H43: 2578.33 | I43: 21883.68 | J43: 49.52 | K43: 6.4 | N43: 4512.07 | O43: 38296.44 | P43: 86.66 | Q43: 6.4 | T43: 6445.81 | U43: 54709.2 | V43: 123.8 | W43: 6.4
B44: 5470.93 | C44: 9614.66 | D44: 321.26 | E44: 10.88 | H44: 21883.69 | I44: 38458.64 | J44: 1285.04 | K44: 10.88 | N44: 38296.45 | O44: 67302.62 | P44: 2248.82 | Q44: 10.88 | T44: 54709.21 | U44: 96146.6 | V44: 3212.6 | W44: 10.88
B45: 9614.67 | C45: 11176.62 | D45: 772.1 | E45: 16 | H45: 38458.65 | I45: 44706.48 | J45: 3088.4 | K45: 16 | N45: 67302.63 | O45: 78236.34 | P45: 5404.7 | Q45: 16 | T45: 96146.61 | U45: 111766.2 | V45: 7721 | W45: 16
B46: 11176.63 | C46: 13381.47 | D46: 1022.01 | E46: 17.92 | H46: 44706.49 | I46: 53525.88 | J46: 4088.04 | K46: 17.92 | N46: 78236.35 | O46: 93670.29 | P46: 7154.07 | Q46: 17.92 | T46: 111766.21 | U46: 133814.7 | V46: 10220.1 | W46: 17.92
B47: 13381.48 | C47: 26988.5 | D47: 1417.12 | E47: 21.36 | H47: 53525.89 | I47: 107954 | J47: 5668.48 | K47: 21.36 | N47: 93670.3 | O47: 188919.5 | P47: 9919.84 | Q47: 21.36 | T47: 133814.71 | U47: 269885 | V47: 14171.2 | W47: 21.36
...

Sheet INPC
A1: Banco de México
A3: Índices de Precios al Consumidor y UDIS
A4: Principales índices mensuales
A6: Fecha de consulta: 30/01/2021 01:28:08
A8: Aviso importante: Algunas de las series que está consultando registra un cambio, por favor consulte los metadatos de las mismas.
A10: Título | B10: IPC Por objeto del gasto Nacional, I n d i c e G e n e r a l
A11: Periodo disponible | B11: Ene 1969 - Dic 2020
A12: Periodicidad | B12: Mensual
A13: Cifra | B13: Indices
A14: Unidad | B14: Sin Unidad
A15: Base | B15: 2Q Jul 2018
A16: Aviso | B16: Acorde con la Ley del Sistema Nacional de Información Estadística y Geográfica, publicada en el Diario Oficial de la Federación el 16 de abril de 2008, a partir del 15 de julio de 2011 el Instituto Nacional de Estadística y Geografía (INEGI) tiene la facultad exclusiva de elaborar y publicar los índices nacionales de precios. En consideración a lo anterior, la información sobre la inflación referente a junio de 2011 fue la última publicada por el Banco de México. El INEGI comenzó la difusión de la información con los resultados correspondientes a la primera quincena de julio de 2011.
A17: Tipo de información | B17: Índices
A18: Fecha | B18: SP1
A19: 25204 | B19: 0.011595
A20: 25235 | B20: 0.011636
A21: 25263 | B21: 0.011648
A22: 25294 | B22: 0.01168
A23: 25324 | B23: 0.01168
A24: 25355 | B24: 0.011721
A25: 25385 | B25: 0.011766
A26: 25416 | B26: 0.011779
A27: 25447 | B27: 0.011889
A28: 25477 | B28: 0.012014
A29: 25508 | B29: 0.012015
A30: 25538 | B30: 0.012106
... A655: 44562 | B655: 118.002
