Workbook
Name Excel_BuiltIn_Print_Area_13_1: 'Cédula 12'!$A$1:$E$24
Name Excel_BuiltIn_Print_Area_15_1: #REF!
Name Excel_BuiltIn_Print_Area_15_1_1: #REF!
Name Excel_BuiltIn_Print_Area_16_1: #REF!
Name Excel_BuiltIn_Print_Area_7_1: 'Cédula 6'!$A$1:$P$29

Sheet INDICE
A2: IMPULSORA DEL SOCONUSCO, S.A. DE C.V.
A3: ÍNDICE DE PAPELES DE TRABAJO
A4: EJERCICIO FISCAL 2021
A6: ISR - DECLARACION ANUAL 2021
A8: Cédula | B8: 1 | C8: ESTADO DE RESULTADOS
A9: Cédula | B9: 2 | C9: BALANCE GENERAL
A10: Cédula | B10: 3 | C10: ESTADO DE COSTO DE PRODUCCIÓN Y VENTA
A11: Cédula | B11: 4 | C11: CONCILIACIÓN CONTABLE FISCAL
A12: Cédula | B12: 5 | C12: CALCULO DEL AJUSTE ANUAL POR INFLACIÓN
A13: Cédula | B13: 6 | C13: DEPRECIACIÓN CONTABLE Y FISCAL DEL EJERCICIO 2015
A14: Cédula | B14: 7 | C14: RELACIONES DE GASTOS DE ADMINISTRACIÓN Y DE VENTA
A15: Cédula | B15: 8 | C15: CUCA Y CUFIN
A16: Cédula | B16: 9 | C16: PAGOS PROVISIONALES
A17: Cédula | B17: 10 | C17: PERDIDAS FISCALES
A18: Cédula | B18: 11 | C18: RESULTADO FISCAL POR ENAJENACIÓN DE ACTIVO FIJO
A19: Cédula | B19: 12 | C19: PTU
... A21: Cédula | B21: 14 | C21: ISR

Sheet Cédula 1
B2: IMPULSORA DEL SOCONUSCO, S.A. DE C.V.
B3: ESTADO DE RESULTADOS INTEGRAL
B4: POR EL AÑO QUE TERMINA EL 31 DE DICIEMBRE 2021
E5: CÉDULA 1
A6: INDICE
B7: Ventas Nacionales | E7: =C8+C9 -> 3863125
B8: Partes Relacionadas | C8: 386312.5
B9: Partes no Relacionadas | C9: 3476812.5
B10: Ventas al Extranjero | E10: =C11+C12 -> 1655625
B11: Partes Relacionadas | C11: 165562
B12: Partes no Relacionadas | C12: 1490063
B13: Ventas totales | E13: =E7+E10 -> 5518750
A14: Menos:
B15: Devoluciones, descuentos y rebajas sobre Ventas Nacionales | E15: =+C16+C17 -> 35000
B16: Partes Relacionadas | C16: 3500
B17: Partes no Relacionadas | C17: 31500
B18: Devoluciones, descuentos y rebajas sobre Ventas al Extranjero | E18: =+C19+C20 -> 15000
B19: Partes Relacionadas | C19: 1500
B20: Partes no Relacionadas | C20: 13500
B21: Devoluciones, descuentos y rebajas sobre Ventas | E21: =E15+E18 -> 50000 | F21: Cédula 4 1
B23: Ventas netas | E23: =+E13-E21 -> 5468750
B24: Costo de lo vendido | E24: ='Cédula 3'!E38 -> 2640000 | F24: Cédula 3
B25: Utilidad Bruta | E25: =+E23-E24 -> 2828750
B26: Gastos de Operación | E26: =SUM(C27:C30) -> 1672366.3
B27: Gastos de venta (Partes Relacionadas) | C27: =+'Cédula 7'!D30*0.1 -> 73373.583 | F27: Cédula 7
B28: Gastos de administración (Partes Relacionadas) | C28: =+'Cédula 7'!C30*0.1 -> 93863.05 | F28: Cédula 7
B29: Gastos de venta (Partes no Relacionadas) | C29: =+'Cédula 7'!D30*0.9 -> 660362.25 | F29: Cédula 7
B30: Gastos de administración (Partes no Relacionadas) | C30: =+'Cédula 7'!C30*0.9 -> 844767.45 | F30: Cédula 7
B31: Utilidad de operación | E31: =+E25-E26 -> 1156383.7
B33: Otros Ingresos y Gastos | E33: =C34-C35+C36-C37 -> 714951.74
B34: Otros ingresos Nacionales | C34: 706427.22
B35: Otros gastos Nacionales (Incluye PTU causada 2021) | C35: =1750+291730 -> 293480
B36: Otros ingresos Extranjeros | C36: 302754.52
B37: Otros gastos Extranjeros | C37: 750
B38: Utilidad antes de ISR y PTU | E38: =E31+E33 -> 1871335.4
B40: Impuestos a la utilidad
B41: ISR | C41: 710991 | E41: =+C41 -> 710991 | F41: Cédula 8 | G41: 14
B42: PTU
B44: Utilidad Neta | E44: =+E38-E41 -> 1160344.4 | F44: Cédula 2
E45: Cédula 4
...

Sheet Cedula 2
H1: CÉDULA 2
B2: IMPULSORA DEL SOCONUSCO, S.A. DE C.V.
B3: ESTADO DE POSICION FINANCIERA AL 31 DE DICIEMBRE DE 2021
A5: INDICE | B5: ACTIVO | F5: PASIVO Y CAPITAL CONTABLE
B6: Bancos | C6: ='Cédula 5'!N12 -> 7000 | D6: Cédula 5 | F6: Proveedores | H6: Cédula 5
B7: Almacén De Materia Prima | C7: ='Cédula 3'!E42 -> 787500 | D7: Cédula 3 | F7: Nacionales (Partes Relacionadas) | G7: 8400
B8: Almacén De Prod. En Proc. | C8: ='Cédula 3'!E43 -> 1050000 | D8: Cédula 3 | F8: Nacionales (Partes No Relacionadas) | G8: 75600
B9: Almacén De Art. Terminado | C9: ='Cédula 3'!E44 -> 1531250 | D9: Cédula 3 | F9: Extranjeros (Partes Relacionadas) | G9: 3600
B10: Inversiones En Valores | C10: ='Cédula 5'!N13 -> 200000 | D10: Cédula 5 | F10: Extranjeros (Partes No Relacionadas) | G10: 32400
B11: Deudores Diversos | C11: 414727 | F11: Impuestos Por Pagar | G11: =987185 -> 987185
B12: Cuentas Y Documentos Por Cobrar | F12: Documentos Por Pagar
B13: Nacionales (Partes Relacionadas) | C13: 23800 | D13: Cédula 5 | F13: Nacionales (Partes Relacionadas) | G13: 3150 | H13: Cédula 5
B14: Nacionales (Partes No Relacionadas) | C14: 214200 | D14: Cédula 5 | F14: Nacionales (Partes No Relacionadas) | G14: 28350 | H14: Cédula 5
B15: Extranjeros (Partes Relacionadas) | C15: 10200 | D15: Cédula 5 | F15: Extranjeros (Partes Relacionadas) | G15: 1350 | H15: Cédula 5
B16: Extranjeros (Partes No Relacionadas) | C16: 91800 | D16: Cédula 5 | F16: Extranjeros (Partes No Relacionadas) | G16: 12150 | H16: Cédula 5
F17: I.S.R. Diferido | G17: 0
B18: Activo A Corto Plazo | C18: =SUM(C6:C17) -> 4330477 | F18: P.T.U. Por Pagar | G18: 291730
B20: Maquinaria Y Equipo | C20: ='Cédula 6'!F12 -> 150000 | D20: Cédula 6 | F20: PASIVO A CORTO PLAZO | G20: =SUM(G7:G18) -> 1443915
B21: Dep. Maquinaria Y Equipo | C21: =-('Cédula 6'!M12) -> -78750 | D21: Cédula 6
B22: Equipo De Computo | C22: ='Cédula 6'!F10+'Cédula 6'!F11 -> 68750 | D22: Cédula 6 | F22: Capital Social | G22: 1700000
B23: Dep. Equipo De Computo | C23: =-('Cédula 6'!M10+'Cédula 6'!M11) -> -68750 | D23: Cédula 6 | F23: Reserva Legal | G23: 202188
B24: Equipo De Oficina | C24: ='Cédula 6'!F13+'Cédula 6'!F14 -> 395000 | D24: Cédula 6 | F24: Resultado De Ejerc. Anter. | G24: =350553 -> 350553
B25: Dep. Equipo De Oficina | C25: =-('Cédula 6'!M13+'Cédula 6'!M14-1) -> -285665.67 | D25: Cédula 6 | F25: Resultado Del Ejercicio | G25: ='Cédula 1'!E44 -> 1160344.4 | H25: Cédula 1 | I25: 4
B26: Equipo De Transporte | C26: ='Cédula 6'!F9+'Cédula 6'!F19+'Cédula 6'!F18 -> 382292 | D26: Cédula 6
B27: Dep. Equipo De Transporte | C27: =-'Cédula 6'!M9-'Cédula 6'!M18-'Cédula 6'!M19 -> -40928.833 | D27: Cédula 6
B28: Pagos Anticipados | C28: 4575
G29: =SUM(G22:G27) -> 3413085.4
B30: Activo A Largo Plazo | C30: =SUM(C20:C29) -> 526522.5
B33: TOTAL ACTIVO | C33: =+C18+C30 -> 4856999.5 | F33: TOTAL PASIVO Y CAPITAL | G33: =G29+G20 -> 4857000.4
F36: =+C33-G33 -> -0.91

Sheet Cédula 3
B1: IMPULSORA DEL SOCONUSCO, S.A. DE C.V. | F1: CÉDULA 3
B2: ESTADO DE COSTO DE PRODUCCIÓN Y VENTA
B3: DEL 1o. DE ENERO AL 31 DE DICIEMBRE 2021
A5: INDICE | B5: Inventario Inicial de materias Primas | E5: =+D42 -> 1093750
A6: Más: | B6: Costo de materias primas recibidas | E6: =D7+D10 -> 1750000
B7: Compras nacionales | D7: =C8+C9 -> 1225000
B8: Partes relacionadas | C8: 122500
B9: Partes no relacionadas | C9: 1102500
B10: Compras al extranjero | D10: =C11+C12 -> 525000
B11: Partes relacionadas | C11: 52500
B12: Partes no relacionadas | C12: 472500
B13: Materias primas disponibles | E13: =E5+E6 -> 2843750
A14: Menos: | B14: Inventario Final de materias primas | E14: =E42 -> 787500
B15: Materias primas directas utilizadas | E15: =E13-E14 -> 2056250
A16: Menos: | B16: Costo de materias primas indirectas utilizada | E16: 306250
B17: Costo de materias primas directas utilizadas | E17: =E15-E16 -> 1750000
A18: Más: | B18: Mano de obra directa utilizada | E18: =D19-D22 -> 656250
B19: Total de mano de obra | D19: 787500
B20: Mano de obra (partes relacionadas) | C20: =D19*0.1 -> 78750
B21: Mano de obra (partes no relacionadas) | C21: =D19*0.9 -> 708750
A22: Menos: | B22: Mano de obra indirecta | D22: 131250
B23: Costo Primo | E23: =E17+E18 -> 2406250
A24: Más: | B24: Cargos indirectos | E24: =D25+D26+D27+D28+D29 -> 758750 | F24: =+E24-D27-D28+F27+F28 -> 661420
B25: Materia prima indirecta | D25: 306250
B26: Mano de obra indirecta | D26: 131250
B27: Diversas erogaciones fabriles | D27: 306250 | F27: 206250 | G27: *
B28: Depreciaciones fabriles | D28: 15000 | F28: =+'Cédula 6'!N22 -> 17670 | G28: Cédula 6
B29: Amortizaciones fabriles | D29: 0
B30: Costo de producción procesada | E30: =E23+E24 -> 3165000
A31: Más: | B31: Inventario Inicial de producción en proceso | E31: =D43 -> 743750
B32: Producción en proceso en disponibilidad | E32: =E30+E31 -> 3908750
A33: Menos: | B33: Inventario final de producción en proceso | E33: =E43 -> 1050000
B34: Costo de la producción Terminada | E34: =E32-E33 -> 2858750
A35: Más: | B35: Inventario inicial de artículos terminados | E35: =D44 -> 1312500
B36: Artículos terminados disponibles | E36: =E34+E35 -> 4171250
A37: Menos: | B37: Inventario final de artículos terminados | E37: =E44 -> 1531250
B38: Costo de artículos vendidos | E38: =E36-E37 -> 2640000 | F38: Cédula 1 | I38: 3077500
E39: Cédula 4 | F39: =+E38-E24+F24 -> 2542670 | I39: =E38-I38 -> -437500
B40: * Por no reunir requisitos del articulo 27 LISR
B41: RESUMEN: | D41: Iniciales | E41: Finales
...

Sheet Cédula 4
C1: CÉDULA 4
B2: IMPULSORA DEL SOCONUSCO, S.A. DE C.V.
B3: CONCILIACION CONTABLE-FISCAL 2021
A4: INDICE
B5: UTILIDAD O PÉRDIDA NETA | C5: ='Cédula 1'!E44 -> 1160344.4 | D5: Cédula 1
B6: Efecto De Reexpresión
B7: Resultado Por Posición Monetaria
A8: IGUAL | B8: UTILIDAD O PERDIDA NETA HISTÓRICA | C8: =C5 -> 1160344.4
A9: MÁS | B9: INGRESOS FISCALES NO CONTABLES | C9: =SUM(C10:C16) -> 737141.1
B10: Ajuste Anual Por Inflación Acumulable | C10: 0
B11: Anticipo De Clientes
B12: Intereses Moratorios Efectivamente Cobrados
B13: Ganancia En La Enajenación De Acciones O Por Reembolsos De Capital
B14: Ganancia En La Enajenación De Terrenos Y Activo Fijo | C14: ='Cédula 11'!E35 -> 18005.479 | D14: Cédula 11
B15: Inventario Acumulable (Ya No Aplica) | C15: 0 | D15: Cédula 15
B16: Otros Ingresos Fiscales No Contables | C16: 719135.62
A17: =A9 -> MÁS | B17: DEDUCCIONES CONTABLES NO FISCALES | C17: =SUM(C18:C27) -> 3820619.3
B18: Costo De Ventas | C18: ='Cédula 3'!E38 -> 2640000 | D18: Cédula 3 | Q18: =+Q10+Q12+Q13+Q16 -> 0
B19: Depreciación Y Amortización Contable | C19: ='Cédula 6'!K20 -> 88553.833 | D19: Cédula 6
B20: Gastos Que No Reúnen Requisitos Fiscales (Lisr 27) | C20: =+'Cédula 7'!E27 -> 29487.5 | D20: Cédula 7
B21: Impuesto Sobre La Renta | C21: 710991 | D21: Cédula 1
B22: Participacion De Los Trabajadores En Las Utilidades | C22: 291730 | D22: Cédula 12
B23: Pérdida Contable En Enajenación De Acciones
B24: Pérdida Contable En Enajenación De Activo Fijo
B25: Pérdida En Participación Subsidiaria
B26: Intereses Devengados Que Exceden Del Valor De Mercado
B27: Otras Deducciones Contables No Fiscales | C27: 59857 | D27: Cédula 7
A28: MENOS | B28: DEDUCCIONES FISCALES NO CONTABLES | C28: =SUM(C29:C40) -> 2938712
B29: Ajuste Anual Por Inflación Deducible | C29: ='Cédula 5'!G42 -> 327389.67 | D29: Cédula 5
B30: Adquisiciones Netas De Mercancía, Materia Prima, Productos Semiterminados O Terminados
B31: Costo De Lo Vendido Fiscal | C31: =+'Cédula 3'!F39 -> 2542670 | D31: Cédula 3
B32: Mano De Obra Directa
B33: Maquilas
B34: Gastos Indirectos De Fabricación
B35: Deducción De Inversiones | C35: ='Cédula 6'!Q16 -> 68652.333 | D35: Cédula 6
B36: Estímulo Fiscal Por Deducciones Inmediata De Inversiones
B37: Pérdida Fiscal En Enajenación De Acciones
B38: Pérdida Fiscal En Enajenación De Terrenos Y Activo Fijo
B39: Intereses Moratorios Efectivamente Pagados
B40: Otras Deducciones Fiscales No Contables | D40: Cédula 1
...

Sheet Cédula 5
B1: IMPULSORA DEL SOCONUSCO, S.A. DE C.V.
B2: CÁLCULO DEL AJUSTE ANUAL POR INFLACION 2021
O3: CÉDULA 5
B5: INDICE
B7: SALDOS AL FINAL DEL MES
C9: Ene | D9: Feb | E9: Mzo | F9: Abr | G9: May | H9: Jun | I9: Jul | J9: Ags | K9: Sep | L9: Oct | M9: Nov | N9: Dic | O9: Promedio
O10: Anual
B11: CREDITOS
B12: Bancos | C12: 325000 | D12: 265000 | E12: 165000 | F12: 198000 | G12: 268000 | H12: 358000 | I12: 386000 | J12: 296000 | K12: 162000 | L12: 125000 | M12: 96000 | N12: 7000 | O12: =SUM(C12:N12)/12 -> 220916.67 | P12: Cédula 2
B13: Clientes | C13: 3000000 | D13: -3500000 | E13: 3200000 | F13: 4500000 | G13: 4050000 | H13: 3890000 | I13: 3210000 | J13: 2750000 | K13: 2532000 | L13: 1590000 | M13: 1000000 | N13: 200000 | O13: =SUM(C13:N13)/12 -> 2201833.3 | P13: Cédula 2
B14: Cuentas y Documentos por cobrar | C14: 2610000 | D14: 3375000 | E14: 4940000 | F14: 5420000 | G14: 5085000 | H14: 5185000 | I14: 4948000 | J14: 3906000 | K14: 2944000 | L14: 1681000 | M14: 1114000 | N14: 340000 | O14: =SUM(C14:N14)/12 -> 3462333.3 | P14: Cédula 2
B15: IVA a favor | C15: 0 | D15: 0 | E15: 0 | F15: 0 | G15: 10000 | H15: 1900 | I15: =2716+1900 -> 4616 | J15: 0 | K15: 0 | L15: 0 | M15: 0 | N15: 0 | O15: =SUM(C15:N15)/12 -> 1376.3333
B17: Promedio anual | O17: =SUM(O12:O16) -> 5886459.7
B21: DEUDAS | C21: Ene | D21: Feb | E21: Mzo | F21: Abr | G21: May | H21: Jun | I21: Jul | J21: Ags | K21: Sep | L21: Oct | M21: Nov | N21: Dic | O21: Promedio
B22: Proveedores | C22: 1250000 | D22: 1212000 | E22: 1325000 | F22: 1452000 | G22: 1525000 | H22: 1432000 | I22: 1125000 | J22: 973145 | K22: 586000 | L22: 459000 | M22: 438000 | N22: 120000 | O22: =SUM(C22:N22)/12 -> 991428.75 | P22: Cédula 2
B23: Cuentas por pagar | C23: 325000 | D23: 310000 | E23: 259000 | F23: 232000 | G23: 212000 | H23: 196000 | I23: 153000 | J23: 120500 | K23: 56200 | L23: 12000 | M23: 15000 | N23: =45000+291730 -> 336730 | O23: =SUM(C23:N23)/12 -> 185619.17 | P23: Cédula 2
B24: Documentos por pagar | C24: 2346089 | D24: 2346089 | E24: 2346089 | F24: 2346089 | G24: 2346089 | H24: 2346089 | I24: 2346089 | J24: 2346089 | K24: 2346089 | L24: 2346089 | M24: 4692178 | N24: 0 | O24: =SUM(C24:N24)/12 -> 2346089
B25: IVA por pagar | C25: 6861 | D25: 6116 | E25: 21791 | F25: 0 | G25: 8100 | H25: 0 | I25: 19951 | J25: =9995+10000 -> 19995 | K25: =6891+3000 -> 9891 | L25: =7484+3000 -> 10484 | M25: =3374.5+3951 -> 7325.5 | N25: 34356 | O25: =SUM(C25:N25)/12 -> 12072.542 | P25: Cédula 2
B26: Aportaciones para futuros aumentos de capital
B27: Imss por pagar | C27: 78000 | D27: 123000 | E27: 72000 | F27: 118000 | G27: 83000 | H27: 132000 | I27: 81000 | J27: 129000 | K27: 70000 | L27: 110000 | M27: 75000 | N27: 165000 | O27: =SUM(C27:N27)/12 -> 103000 | P27: Cédula 2
B28: Otro impuestos | C28: 0 | D28: 0 | E28: 0 | F28: 0 | G28: 0 | H28: 0 | I28: 0 | J28: 0 | K28: 0 | L28: 0 | M28: 0 | N28: 787829 | O28: =SUM(C28:N28)/12 -> 65652.417 | P28: Cédula 2
B29: Promedio anual | O29: =SUM(O22:O28) -> 3703861.9
B32: Promedio anual de Deudas | G32: =O29 -> 3703861.9
B34: Promedio anual de Créditos | G34: =+O17 -> 5886459.7 | I34: INPC DIC 2021 | K34: - 1 = | M34: 1.15
I35: INPC DIC 2020 | M35: 1
B36: Diferencia a favor de Créditos | G36: =+G34-G32 -> 2182597.8
J37: FACTOR DE AJUSTE ANUAL | M37: =(TRUNC(M34/M35,4))-1 -> 0.15
B38: Factor de Ajuste Anual | G38: =M37 -> 0.15
B41: Ajuste anual por inflación acumulable | G41: 0 | H41: Cédula 4 | I41: 12 | J41: 13
B42: Ajuste anual por inflación deducible | G42: =+G36*G38 -> 327389.67 | H42: Cédula 4 | I42: 12

Sheet Cédula 6
B1: IMPULSORA DEL SOCONUSCO, S.A. DE C.V.
B2: DETERMINACION DE LA DEPRECIACION CONTABLE Y DEDUCCIÓN DE INVERSIONES DEL EJERCICIO 2021
Q3: CÉDULA 6
B4: INDICE
C5: FECHA | D5: MESES | E5: ULTIMO | F5: MOI | G5: TASA | H5: DEPRECIACION | J5: MESES | K5: DEP | L5: DEP | M5: DEP | N5: I. N. P. C. | P5: F.A. | Q5: DED. INV.
B6: CONCEPTO | C6: DE | D6: TOTALES | E6: MES | F6: DEDUCIBLE | G6: ANUAL | H6: ANUAL | I6: MENSUAL | J6: DE | K6: DEL EJER. | L6: ACUM AL | M6: ACUM AL | N6: MES | O6: 1° MITAD | P6: EJER. | Q6: DEL EJERCICIO
C7: ADQUIS | D7: DE USO | E7: DEPRE. | F7: HISTORICO | G7: % | J7: UTIL 2021 | K7: 2021 | L7: Dic/2020 | M7: 31/DIC/2020 | N7: DE ADQ. | O7: PERIODO DE USO | P7: 2020 | Q7: ACTUALIZADA
A8: ADMON | B8: Automovil 1 | C8: 43028 | D8: =(100/25)*12 -> 48 | E8: 44196 | F8: 175000 | G8: 0.25 | H8: =+F8*G8 -> 43750 | I8: =+H8/12 -> 3645.8333 | J8: 6 | K8: 0 | L8: =(2+12+12+12)*I8 -> 138541.67 | M8: 0 | Q8: =+K8*P8 -> 0
A9: VENTAS | B9: Automovil 2 | C9: 44305 | D9: =(100/25)*12 -> 48 | E9: =+C9+1460 -> 45765 | F9: 175000 | G9: 0.25 | H9: =+F9*G9 -> 43750 | I9: =+H9/12 -> 3645.8333 | J9: 8 | K9: =I9*J9 -> 29166.667 | L9: 0 | M9: =+L9+K9 -> 29166.667 | N9: 119.302 | O9: 120.215 | P9: =+IF((TRUNC((O9/N9),4))<1,1,(TRUNC((O9/N9),4))) -> 1.0076 | Q9: =+K9*P9 -> 29388.333 | R9: Cédula 2
A10: VENTAS | B10: Computo 2 | C10: 41845 | D10: =(100/30)*12 -> 40 | E10: =+C10+(30.4*40) -> 43061 | F10: 37500 | G10: 0.3 | H10: =+F10*G10 -> 11250 | I10: =+H10/12 -> 937.5 | J10: 0 | K10: =I10*J10 -> 0 | L10: =I10*(5+12+12+11) -> 37500 | M10: =+L10+K10 -> 37500 | N10: inpc jul/2013 | O10: inpc jun/2020 | Q10: =+K10*P10 -> 0 | R10: Cédula 2
A11: ADMON | B11: Computo 1 | C11: 41768 | D11: =(100/30)*12 -> 40 | E11: =+C11+(30.4*40) -> 42984 | F11: 31250 | G11: 0.3 | H11: =+F11*G11 -> 9375 | I11: =+H11/12 -> 781.25 | J11: 0 | K11: =I11*J11 -> 0 | L11: =I11*(7+12+12+9) -> 31250 | M11: =+L11+K11 -> 31250 | Q11: =+K11*P11 -> 0 | R11: Cédula 2
A12: PROD | B12: Maquinaria | C12: 41540 | D12: =(100/10)*12 -> 120 | E12: =+C12+(365*10) -> 45190 | F12: 150000 | G12: 0.1 | H12: =+F12*G12 -> 15000 | I12: =+H12/12 -> 1250 | J12: 12 | K12: 0 | L12: =I12*(3+12+12+12+12) -> 63750 | M12: =+L12+15000 -> 78750 | N12: 100.927 | O12: 118.901 | P12: =TRUNC(O12/N12,4) -> 1.178 | Q12: =+M12*P12 -> 92767.5 | R12: Cédula 2 | S12: Cédula 3
A13: ADMON | B13: Oficina 1 | C13: 39283 | D13: =(100/10)*12 -> 120 | E13: =+C13+(365*10) -> 42933 | F13: 75000 | G13: 0.1 | H13: =+F13*G13 -> 7500 | I13: =+H13/12 -> 625 | J13: 0 | K13: =I13*J13 -> 0 | L13: =F13 -> 75000 | M13: =+L13+K13 -> 75000 | Q13: =+K13*P13 -> 0 | R13: Cédula 2
A14: ADMON | B14: Oficina 2 | C14: 41054 | D14: =(100/10)*12 -> 120 | E14: =+C14+(365*10) -> 44704 | F14: 320000 | G14: 0.1 | H14: =+F14*G14 -> 32000 | I14: =+H14/12 -> 2666.6667 | J14: 12 | K14: =I14*J14 -> 32000 | L14: =I14*(7+12+12+12+12+12) -> 178666.67 | M14: =+L14+K14 -> 210666.67 | N14: 96.8975 | O14: 118.901 | P14: =TRUNC(O14/N14,4) -> 1.227 | Q14: =+K14*P14 -> 39264 | R14: Cédula 2
B16: G R A N T O T A L | F16: =SUM(F8:F15) -> 963750 | H16: =SUM(H8:H15) -> 162625 | I16: =SUM(I8:I15) -> 13552.083 | K16: =SUM(K8:K15) -> 61166.667 | L16: =SUM(L8:L15) -> 524708.33 | M16: =SUM(M8:M15) -> 462333.33 | Q16: =+Q9+Q10+Q11+Q14 -> 68652.333 | R16: Cédula 12
A17: ADMON | B17: Automovil 1 | C17: 43393 | D17: =(100/25)*12 -> 48 | E17: =+C17+1460 -> 44853 | F17: 125000 | G17: 0.25 | H17: =+F17*G17 -> 31250 | I17: =+H17/12 -> 2604.1667 | J17: 6 | K17: =I17*J17 -> 15625 | L17: =(2+12+12+12)*I17 -> 98958.333 | M17: =+L17+K17 -> 114583.33 | R17: Cédula 4
A18: VENTAS | B18: Automovil 2 | C18: 43209 | D18: =(100/25)*12 -> 48 | E18: =+C18+1460 -> 44669 | F18: =200000-F9 -> 25000 | G18: 0.25 | H18: =+F18*G18 -> 6250 | I18: =+H18/12 -> 520.83333 | J18: 8 | K18: =I18*J18 -> 4166.6667 | L18: 0 | M18: =+L18+K18 -> 4166.6667
B19: Automovil 3 | C19: 43378 | D19: =(100/25)*12 -> 48 | E19: =+C19+1460 -> 44838 | F19: 182292 | G19: 0.25 | H19: =+F19*G19 -> 45573 | I19: =+H19/12 -> 3797.75 | J19: 2 | K19: =I19*J19 -> 7595.5 | L19: 0 | M19: =+L19+K19 -> 7595.5 | R19: Cédula 2
B20: DEPRECIACIÓN CONTABLE DEL EJERCICIO 2020 | K20: =SUM(K16:K19) -> 88553.833 | L20: La deducción de maquinaria no se suma en esta cedula por formar parte del costo de ventas
B21: Notas: | M21: Contable | N21: =+H12 -> 15000
B22: 1.- El costo de adquisición del automovil 2 fue de $ 200,000 más IVA | M22: Fiscal | N22: =+N21*P12 -> 17670
B23: 2.- El costo de adquisición del automovil 3 no es deducible.
B24: 3.- El automovil 1 fue enajenado en el mes de julio 2021
B25: 4.- El equipo de oficina 1, dejó de ser útil para obtener los ingresos en 2007, siendo en ese ejercicio deducido todo el remanente pendiente por deducir.

Sheet Cédula 7
B1: IMPULSORA DEL SOCONUSCO, S.A. DE C.V.
B2: RELACION DE GASTOS DE ADMINISTRACION Y DE VENTA 2021
E3: CÉDULA 7
B5: INDICE
B6: CONCEPTO | C6: ADMON | D6: VENTA | E6: TOTALES
B8: Depreciacion Equipo de cómputo | C8: ='Cédula 6'!K10 -> 0 | D8: ='Cédula 6'!K11 -> 0 | E8: =+C8+D8 -> 0 | F8: Cédula 6
B9: Depreciacion Equipo de oficina | C9: ='Cédula 6'!K14 -> 32000 | D9: 0 | E9: =+C9+D9 -> 32000 | F9: Cédula 6
B10: Depreciación Equipo de transporte | C10: =+'Cédula 6'!K17+'Cédula 6'!K19 -> 23220.5 | D10: =+'Cédula 6'!K9+'Cédula 6'!K18 -> 33333.333 | E10: =+C10+D10 -> 56553.833 | F10: Cédula 6
B11: Depreciación Maquinaria | C11: 0 | D11: 0 | E11: =+C11+D11 -> 0 | F11: Cédula 6
B12: Sueldos y salarios | C12: 300150 | D12: 352350 | E12: =+C12+D12 -> 652500
B13: Honorarios pagados a personas físicas | C13: 64925 | D13: 0 | E13: =+C13+D13 -> 64925
B14: Previsión social (No deducible el 53%) | C14: 51951.25 | D14: 60986.25 | E14: =+C14+D14 -> 112937.5 | F14: *
B15: Arrendamiento pagado a persona física | C15: 89700 | D15: 105300 | E15: =+C15+D15 -> 195000
B16: Fletes y acarreos | C16: 0 | D16: 27962.5 | E16: =+C16+D16 -> 27962.5
B17: Aportaciones al Infonavit | C17: 15617.5 | D17: 18332.5 | E17: =+C17+D17 -> 33950
B18: Aportaciones RCV | C18: 18526.25 | D18: 21748.75 | E18: =+C18+D18 -> 40275
B19: Cuotas patronales al IMSS | C19: 48357.5 | D19: 56767.5 | E19: =+C19+D19 -> 105125
B20: Otras contribuciones | C20: 6275 | D20: 7365 | E20: =+C20+D20 -> 13640
B21: Pago de primas de seguros y fianzas | C21: 32875 | D21: 12787.5 | E21: =+C21+D21 -> 45662.5
B22: Viaticos y gastos de viaje | C22: 55875 | D22: 23437.5 | E22: =+C22+D22 -> 79312.5
B23: Honorarios pagados a personas morales | C23: 27825 | D23: 0 | E23: =+C23+D23 -> 27825
B24: Papelería y artículos de oficina | C24: 35750 | D24: 6817.5 | E24: =+C24+D24 -> 42567.5
B25: Cuotas y suscripciones | C25: 7845 | D25: 0 | E25: =+C25+D25 -> 7845
B26: Teléfonos | C26: 4500 | D26: 6547.5 | E26: =+C26+D26 -> 11047.5
B27: Gastos que no reunen requisitos fiscales (1)(LISR 27) | C27: 29487.5 | D27: 0 | E27: =+C27+D27 -> 29487.5 | F27: Cédula 4
B28: Honorarios de consejo | C28: 93750 | D28: 0 | E28: =+C28+D28 -> 93750
B30: TOTAL | C30: =SUM(C8:C29) -> 938630.5 | D30: =SUM(D8:D29) -> 733735.83 | E30: =SUM(E8:E28) -> 1672366.3
B32: * Previsión social no deducible $ 59,857 y deducible 53,080.5
C33: Cédula 1 | D33: Cédula 1
B34: Partes Relacionadas | C34: =ROUND(C30*0.1,0) -> 93863 | D34: =ROUND(D30*0.1,0) -> 73374 | E34: =C34+D34 -> 167237
B35: Partes no Relacionadas | C35: =ROUND(C30*0.9,0) -> 844767 | D35: =ROUND(D30*0.9,0) -> 660362 | E35: =C35+D35 -> 1505129
C36: Cédula 1 | D36: Cédula 1 | E36: =E34+E35 -> 1672366
B38: 1) Otros Gastos
B39: Articulos de Oficina | C39: 5898
B40: Artículos de Limpieza | C40: 2949
B41: Luz | C41: 20641
C42: =SUM(C39:C41) -> 29488

Sheet Cédula 8
C1: IMPULSORA DEL SOCONUSCO, S.A. DE C.V.
C2: DETERMINACIÓN DE LA CUFIN Y CUCA DEL EJERCICIO 2021
H3: CÉDULA 8
B5: INDICE
C6: CALCULO DE LA UTILIDAD FISCAL NETA DEL EJERCICIO 2020
C8: RESULTADO FISCAL | H8: ='Cédula 4'!C50-'Cédula 10'!F24-'Cédula 9'!N17 -> 2135294.2 | I8: Cédula 4
B9: Menos | C9: I.S.R. PAGADO ( AL 30%) | H9: ='Cédula 1'!C41 -> 710991 | I9: Cédula 4 | J9: 1
B10: Menos | C10: NO DEDUCIBLES ( EXCEPTO FRACC. VIII Y IX DEL ART. 28 ) | H10: =+'Cédula 4'!C27 -> 59857 | I10: Cédula 4
C11: UFIN DEL EJERCICIO 2020 | H11: =+H8-H9-H10 -> 1364446.2
C14: SALDO INICIAL AL 31 DE DICIEMBRE 2013 (Cufin generada | H14: 1010420
C15: antes del ejercicio 2014, actualizada a diciembre 2019)
C17: F.A. | D17: INPC DIC 20 | F17: 122.515 | H17: =TRUNC(F17/F18,4) -> 1.0336
D18: INPC DIC 19 | F18: 118.532
C20: SALDO ACTUALIZADO AL 31 DE DICIEMBRE 2020 | H20: =H14*H17 -> 1044370.1
C22: CUFÍN GENERADA A PARTIR DE 2015 (Actualizada a 2019) | H22: 310767
C24: F.A. | D24: INPC DIC 20 | F24: 122.515 | H24: =TRUNC(F24/F25,4) -> 1.0336
D25: INPC DIC 19 | F25: 118.532
C27: SALDO DE LA CUFÍN 2015, actualizado a 2020 | H27: =H22*H24 -> 321208.77
C29: UFIN DEL EJERCICIO 2020 | H29: =H11 -> 1364446.2
C30: SALDO ACTUALIZADO AL 31 DE DICIEMBRE 2020 | H30: =+H27+H29 -> 1685654.9
C32: SALDO TOTAL DE CUFÍN A DIC 2020 | H32: =+H30+H20 -> 2730025.1
C35: CALCULO DE LA CUENTA DE CAPITAL DE APORTACION
C38: SALDO INICIAL AL 31 DE DICIEMBRE 2020 | H38: 3685761
C40: F.A.C. | D40: =D17 -> INPC DIC 20 | F40: =F17 -> 122.515 | H40: =TRUNC(F40/F41,4) -> 1.0336
D41: =D18 -> INPC DIC 19 | F41: =F18 -> 118.532
C43: SALDO ACTUALIZADO AL 31 DE DICIEMBRE 2021 | H43: =H38*H40 -> 3809602.6

Sheet Cédula 9
B1: IMPULSORA DEL SOCONUSCO, S.A. DE C.V.
B2: DETERMINACIÓN DE LOS PAGOS PROVISIONALES DE ISR 2021
N3: CÉDULA 9
B6: INDICE
B7: MES DE QUE SE TRATA | C7: Enero | D7: Febrero | E7: Marzo | F7: Abril | G7: Mayo | H7: Junio | I7: Julio | J7: Agosto | K7: Septiembre | L7: Octubre | M7: Noviembre | N7: Diciembre
B9: INGRESOS NOMINALES
B10: DEL MES | C10: 217000 | D10: 231800 | E10: 611100 | F10: 208700 | G10: 668300 | H10: 312900 | I10: 249400 | J10: 370100 | K10: 576500 | L10: 396800 | M10: =374960 -> 374960 | N10: =1002423-1839+5886+1303816+70+16 -> 2310372
B11: ACUMULADOS | C11: =+C10 -> 217000 | D11: =+D10+C11 -> 448800 | E11: =+E10+D11 -> 1059900 | F11: =+F10+E11 -> 1268600 | G11: =+G10+F11 -> 1936900 | H11: =+H10+G11 -> 2249800 | I11: =+I10+H11 -> 2499200 | J11: =+J10+I11 -> 2869300 | K11: =+K10+J11 -> 3445800 | ... N11: =+N10+M11 -> 6527932
B13: COEFICIENTE DE UTILIDAD | C13: 0.101 | D13: 0.101 | E13: 0.101 | F13: 0.101 | G13: 0.101 | H13: 0.101 | I13: 0.101 | J13: 0.101 | K13: 0.101 | L13: 0.101 | M13: 0.101 | N13: 0.101
B15: UTILIDAD FISCAL | C15: =+C11*C13 -> 21917 | D15: =+D11*D13 -> 45328.8 | E15: =+E11*E13 -> 107049.9 | F15: =+F11*F13 -> 128128.6 | G15: =+G11*G13 -> 195626.9 | H15: =+H11*H13 -> 227229.8 | I15: =+I11*I13 -> 252419.2 | J15: =+J11*J13 -> 289799.3 | ... N15: =+N11*N13 -> 659321.13
B17: PTU PAGADA EN 2017 (Causada en 2016) | C17: 0 | D17: 0 | E17: 0 | F17: 0 | G17: =(D40/8)*1 -> 21875 | H17: =(D40/8)*2 -> 43750 | I17: =(D40/8)*3 -> 65625 | J17: =(D40/8)*4 -> 87500 | K17: =(D40/8)*5 -> 109375 | L17: =(D40/8)*6 -> 131250 | M17: =(D40/8)*7 -> 153125 | N17: =(D40/8)*8 -> 175000 | O17: Cédula 4
B19: UTIL FISCAL EXCEDENTE ESTIM FISC | C19: =+C15-C17 -> 21917 | D19: =+D15-D17 -> 45328.8 | E19: =+E15-E17 -> 107049.9 | F19: =+F15-F17 -> 128128.6 | G19: =+G15-G17 -> 173751.9 | H19: =+H15-H17 -> 183479.8 | I19: =+I15-I17 -> 186794.2 | J19: =+J15-J17 -> 202299.3 | ... N19: =+N15-N17 -> 484321.13
B21: INVENTARIO ACUMULABLE | C21: =('Cédula 15'!E19)/12 -> 0 | D21: =+C21*2 -> 0 | E21: =+C21*3 -> 0 | F21: =+C21*4 -> 0 | G21: =+C21*5 -> 0 | H21: =+C21*6 -> 0 | I21: =+C21*7 -> 0 | J21: =+C21*8 -> 0 | K21: =+C21*9 -> 0 | L21: =+C21*10 -> 0 | M21: =+C21*11 -> 0 | N21: =+C21*12 -> 0 | O21: Cédula 15 | P21: 4
B23: PERDIDAS DE EJERCICIOS ANT. ACT. | C23: 0 | D23: 0 | E23: =+IF((E19+E21)>'Cédula 10'!$F$16,'Cédula 10'!$F$16,E19+E21) -> 107049.9 | F23: =+IF((F19+F21)>'Cédula 10'!$F$16,'Cédula 10'!$F$16,F19+F21) -> 128128.6 | G23: =+IF((G19+G21)>'Cédula 10'!$F$16,'Cédula 10'!$F$16,G19+G21) -> 173751.9 | H23: =+IF((G19+G21)>'Cédula 10'!$F$24,'Cédula 10'!$F$24,G19+G21) -> 173751.9 | I23: =+IF((G19+G21)>'Cédula 10'!$F$24,'Cédula 10'!$F$24,G19+G21) -> 173751.9 | J23: =+IF((G19+G21)>'Cédula 10'!$F$24,'Cédula 10'!$F$24,G19+G21) -> 173751.9 | K23: =+IF((G19+G21)>'Cédula 10'!$F$24,'Cédula 10'!$F$24,G19+G21) -> 173751.9 | L23: =+IF((G19+G21)>'Cédula 10'!$F$24,'Cédula 10'!$F$24,G19+G21) -> 173751.9 | M23: =+IF((G19+G21)>'Cédula 10'!$F$24,'Cédula 10'!$F$24,G19+G21) -> 173751.9 | N23: =+IF((G19+G21)>'Cédula 10'!$F$24,'Cédula 10'!$F$24,G19+G21) -> 173751.9 | O23: Cédula 10
B25: BASE DEL PAGO PROVISIONAL | C25: =IF((C19+C21-C23)<0,0,C19+C21-C23) -> 21917 | D25: =IF((D19+D21-D23)<0,0,D19+D21-D23) -> 45328.8 | E25: =IF((E19+E21-E23)<0,0,E19+E21-E23) -> 0 | F25: =IF((F19+F21-F23)<0,0,F19+F21-F23) -> 0 | G25: =IF((G19+G21-G23)<0,0,G19+G21-G23) -> 0 | H25: =IF((H19+H21-H23)<0,0,H19+H21-H23) -> 9727.9 | I25: =IF((I19+I21-I23)<0,0,I19+I21-I23) -> 13042.3 | J25: =IF((J19+J21-J23)<0,0,J19+J21-J23) -> 28547.4 | ... N25: =IF((N19+N21-N23)<0,0,N19+N21-N23) -> 310569.23
B27: TASA DE IMPUESTO | C27: 0.3 | D27: 0.3 | E27: 0.3 | F27: 0.3 | G27: 0.3 | H27: 0.3 | I27: 0.3 | J27: 0.3 | K27: 0.3 | L27: 0.3 | M27: 0.3 | N27: 0.3
B29: MONTO DEL PAGO PROVISIONAL | C29: =C25*C27 -> 6575.1 | D29: =D25*D27 -> 13598.64 | E29: =E25*E27 -> 0 | F29: =F25*F27 -> 0 | G29: =G25*G27 -> 0 | H29: =H25*H27 -> 2918.37 | I29: =I25*I27 -> 3912.69 | J29: =J25*J27 -> 8564.22 | ... N29: =N25*N27 -> 93170.77 | O29: Cédula 14
B31: PAGOS PROVISIONALES EFECTUADOS | C31: 0 | D31: =C35 -> 6320.1 | E31: =+SUM($C$35:D35) -> 13003.64 | F31: =+SUM($C$35:E35) -> 13003.64 | G31: =+SUM($C$35:F35) -> 13003.64 | H31: =+SUM($C$35:G35) -> 13003.64 | I31: =+SUM($C$35:H35) -> 13003.64 | J31: =+SUM($C$35:I35) -> 13003.64 | K31: =+SUM($C$35:J35) -> 13003.64 | L31: =+SUM($C$35:K35) -> 14573.67 | ... N31: =+SUM($C$35:M35) -> 21092.998 | O31: Cédula 14
B32: CON ANTERIORIDAD
B33: RETENCIONES DE ISR. (INV. BANCARIA) | C33: 255 | D33: 595 | E33: 1700 | F33: 1904 | G33: 2210 | H33: 3485 | I33: 3876 | J33: 4352 | K33: 4896 | L33: 7021 | M33: 8636 | N33: 9129 | O33: Cédula 14
B35: PAGOS PROVISIONAL DEL PERIODO | C35: =+IF(C29>SUM(C31:C33),C29-C31-C33,0) -> 6320.1 | D35: =+IF(D29>SUM(D31:D33),D29-D31-D33,0) -> 6683.54 | E35: =+IF(E29>SUM(E31:E33),E29-E31-E33,0) -> 0 | F35: =+IF(F29>SUM(F31:F33),F29-F31-F33,0) -> 0 | G35: =+IF(G29>SUM(G31:G33),G29-G31-G33,0) -> 0 | H35: =+IF(H29>SUM(H31:H33),H29-H31-H33,0) -> 0 | I35: =+IF(I29>SUM(I31:I33),I29-I31-I33,0) -> 0 | J35: =+IF(J29>SUM(J31:J33),J29-J31-J33,0) -> 0 | ... N35: =+IF(N29>SUM(N31:N33),N29-N31-N33,0) -> 62948.772 | O35: =SUM(C35:N35) -> 84041.77
B39: NOTA:
B40: LA PTU PAGADA EN EL EJERCICIO FUE DE | D40: 175000

Sheet Cédula 10
B1: IMPULSORA DEL SOCONUSCO, S.A. DE C.V.
B2: ACTUALIZACIÓN DE PÉRDIDAS FISCALES
F3: CÉDULA 10
B5: INDICE
B7: Ejercicio de la pérdida 2020
B9: Importe de la pérdida | F9: 422111
B11: Primera actualización
B12: Factor
B13: INPC Dic 2020 | D13: 118.532 | F13: =TRUNC(D13/D14,4) -> 1.0207
B14: INPC Julio 2020 | D14: 116.128
B16: Pérdida actualizada a Diciembre 2020 | F16: =F9*F13 -> 430848.7
B19: Actualización adicional
B20: Factor
B21: INPC Jun 2021 | D21: 118.901 | F21: =TRUNC(D21/D22,4) -> 1.0031
B22: =B13 -> INPC Dic 2020 | D22: 118.532
B24: Saldo actualizado a 2021 | F24: =F16*F21 -> 432184.33
F25: Cédula 4 | G25: 9

Sheet Cédula 11
B1: IMPULSORA DEL SOCONUSCO, S.A. DE C.V.
B2: DETERMINACIÓN DEL RESULTADO FISCAL POR
B3: ENAJENACIÓN DE ACTIVO FIJO
E4: CÉDULA 11
B5: INDICE
B7: Tipo de bien | D7: Automóvil
B8: Fecha de enajenación | D8: 44389
B9: Fecha de adquisición | D9: 43393
B10: Por ciento máximo autorizado | D10: 0.25
B12: Parte no deducible | E12: =IF(175000<E13,E13-175000,0) -> 0
B13: MOI deducible | E13: 125000
B15: Depreciación acumulada
B16: Ejercicio 2018 | C16: 2 | D16: =((E13*0.25)/12)*2 -> 5208.3333
B17: Ejercicio 2019 | C17: 12 | D17: =((E13*0.25)/12)*12 -> 31250
B18: Ejericicio 2020 | C18: 12 | D18: =((E13*0.25)/12)*12 -> 31250
B19: Ejercicio 2021 | C19: 12 | D19: =((E13*0.25)/12)*12 -> 31250 | E19: =SUM(D16:D19) -> 98958.333
B20: Saldo por deducir histórico (Fiscal) | E20: =E13-E19 -> 26041.667 | F20: Cédula 12
B22: Ejercicio 2021 | C22: 6 | D22: ='Cédula 6'!K17 -> 15625 | E22: =SUM(D16:D22) -> 114583.33
B23: Saldo por deducir histórico (Contable) | D23: Cédula 6 | E23: =E13-E22 -> 10416.667
B25: Factor de actualización
B26: INPC Mar 2020 | D26: 119.681 | E26: =TRUNC(D26/D27,4) -> 1.1261
B27: INPC OCT 2017 | D27: 106.278
B29: Saldo por deducir actualizado (Fiscal) | E29: =+E20*E26 -> 29325.521 | F29: Cédula 12
B31: Precio de venta | E31: 47331
B33: Utilidad (pérdida) contable | E33: =E31-E23 -> 36914.333 | G33: 4 1
B35: Utilidad (Pérdida) Fiscal | E35: =E31-E29 -> 18005.479 | F35: Cédula 4
E36: Cédula 4 1

Sheet Cédula 12
B1: IMPULSORA DEL SOCONUSCO, S.A. DE C.V. | G1: Ingresos
B2: CÁLCULO DE LA PTU 2021 | G2: ='Cédula 1'!E13 -> 5518750 | H2: Ventas totales
E3: CÉDULA 12 | G3: ='Cédula 1'!C34 -> 706427.22 | H3: Otros ingresos nacionales
G4: ='Cédula 1'!C36 -> 302754.52 | H4: Otros ingresos extranjeros
B5: INDICE | G5: =-'Cédula 4'!C41 -> -36914.333 | H5: Ingresos contables no fiscales (Venta activo fijo contable)
C6: Ingreso acumulable | D6: ='Cédula 1'!E13+'Cédula 1'!C34+'Cédula 1'!C36-'Cédula 4'!C41+'Cédula 4'!C9 -> 7228158.5 | E6: Cédula 13 | G6: =+'Cédula 4'!C9 -> 737141.1 | H6: Ingresos fiscales no contables
C7: Cantidad no deducible artículo 28-XXX | D7: 59857
B8: Menos | C8: Deducciones autorizadas | D8: =+'Cédula 1'!E21+'Cédula 1'!E24+'Cédula 1'!E26+'Cédula 1'!C35+'Cédula 1'!C37+'Cédula 1'!E41+'Cédula 4'!C28-'Cédula 4'!C17 -> 4485680 | G8: SUMA | H8: =SUM(G2:G7) -> 7228158.5
C9: Base PTU | D9: =+D6-D7-D8 -> 2682621.5
C10: Porcentaje de participación | D10: 0.1 | G10: Deducciones
C11: PTU causada 2020 | D11: =+D9*D10 -> 268262.15 | G11: ='Cédula 1'!E21 -> 50000 | H11: Devoluciones
G12: ='Cédula 1'!E24 -> 2640000 | H12: Costo de lo vendido (contable)
G13: ='Cédula 1'!E26 -> 1672366.3 | H13: Gastos de operación
G14: =+'Cédula 1'!C35 -> 293480 | H14: Otros gastos nacionales
G15: ='Cédula 1'!C37 -> 750 | H15: Otros gastos extranjeros
G16: =+'Cédula 1'!C41 -> 710991 | H16: ISR PTU
G17: =-'Cédula 4'!C17 -> -3820619.3 | H17: Deducciones contables no fiscales
G18: ='Cédula 4'!C28 -> 2938712 | H18: Deducciones fiscales no contables
G19: SUMA | H19: =SUM(G11:G18) -> 4485680

Sheet Cédula 13
B1: IMPULSORA DEL SOCONUSCO, S.A. DE C.V.
B2: Cálculo del Coeficiente de Utilidad para 2022
B3: DATOS DEL EJERCICIO 2021
F4: CÉDULA 13
A6: INDICE
C7: Ingresos Acumulables | D7: ='Cédula 12'!D6-'Cédula 15'!E19 -> 7228158.5 | F7: Cédula 12
B8: Menos | C8: Ajuste anual por inflación acum. | D8: ='Cédula 5'!G41 -> 0 | F8: Cédula 5
C9: Ingresos nominales | D9: =D7-D8 -> 7228158.5
B11: COEFICIENTE DE UTILIDAD PARA PAGOS PROVISIONALES 2022
B13: C.U. = | C13: Utilidad Fiscal
C14: Ingresos nominales
B16: C.U. = | C16: =+'Cédula 4'!C53-'Cédula 15'!E19 -> 2567478.5
C17: =D9 -> 7228158.5
C18: Coeficiente de utilidad | F18: =TRUNC(C16/C17,4) -> 0.3552

Sheet Cédula 14
B1: IMPULSORA DEL SOCONUSCO, S.A. DE C.V.
B2: DETERMINACION DEL ISR
B3: EJERCICIO 2021
F4: CÉDULA 14
B6: INDICE
B8: ISR
B10: ISR CAUSADO | E10: ='Cédula 1'!C41 -> 710991 | F10: Cédula 4 | G10: 1
B11: PAGOS PROVISIONALES | E11: =-'Cédula 9'!O35 -> -84041.77 | F11: Cédula 9
B12: RETENCIONES | E12: =-'Cédula 9'!N33 -> -9129 | F12: Cédula 9
B14: SALDO A CARGO O ( A FAVOR ) | E14: =SUM(E10:E12) -> 617820.23

Sheet Cédula 15
B1: IMPULSORA DEL SOCONUSCO, S.A. DE C.V.
B2: Determinación del inventario acumulable 2017
E3: CÉDULA 15
B5: INDICE
C7: INVENTARIO BASE AL 31 DE DICIEMBRE 2005 | E7: 19927490
C9: SALDO POR DEDUCIR INVENTARIOS DE 86 U 88 | E9: 0
C11: PERDIDAS PENDIENTES DE DISMINUIR ACT. | E11: =1200000 -> 1200000
C13: DIFERENCIA INVENTARIOS DE IMPORTACIÒN | E13: 0
C15: INVENTARIO ACUMULABLE TOTAL | E15: =+E7-E11 -> 18727490
C17: POR CIENTO DE ACUMULACIÒN | E17: 0.0384
C19: INVENTARIO ACUMULABLE DEL EJERCICIO | E19: 0 | F19: Cédula 4 | G19: 9
C21: En el presente supuesto no se disminuyó el inventario final de 2017 con relación al
C22: inventario base (2005).
C24: EN ESTE EJERCICIO SE TERMINA DE ACUMULAR EL INVENTARIO

Sheet INPC
C6: ÍNDICE GENERAL DE INFLACIÓN
B8: AÑO | C8: ENE | D8: FEB | E8: MAR | F8: ABR | G8: MAY | H8: JUN | I8: JUL | J8: AGO | K8: SEP | L8: OCT | M8: NOV | N8: DIC
B9: 2015 | C9: 115.954 | D9: 116.174 | E9: 116.647 | F9: 116.345 | G9: 115.764 | H9: 115.958 | I9: 116.128 | J9: 116.373 | K9: 116.809 | L9: 117.41 | M9: 118.051 | N9: 118.532
B10: 2014 | C10: 112.505 | D10: 112.79 | E10: 113.099 | F10: 112.888 | G10: 112.527 | H10: 112.722 | I10: 113.032 | J10: 113.438 | K10: 113.939 | L10: 114.569 | M10: 115.493 | N10: 116.059
B11: 2013 | C11: 107.678 | D11: 108.208 | E11: 109.002 | F11: 109.074 | G11: 108.711 | H11: 108.645 | I11: 108.609 | J11: 108.918 | K11: 109.328 | L11: 109.848 | M11: 110.872 | N11: 111.508
B12: 2013 | C12: 104.284 | D12: 104.496 | E12: 104.556 | F12: 104.228 | G12: 103.899 | H12: 104.378 | I12: 104.964 | J12: 105.279 | K12: 105.743 | L12: 106.278 | M12: 107 | N12: 107.246
B13: 2012 | C13: 100.228 | D13: 100.604 | E13: 100.797 | F13: 100.789 | G13: 100.046 | H13: 100.041 | I13: 100.521 | J13: 100.68 | K13: 100.927 | L13: 101.608 | M13: 102.707 | N13: 103.551
B14: 2011 | C14: 96.575479 | D14: 97.13405 | E14: 97.823643 | F14: 97.511947 | G14: 96.89752 | H14: 96.867177 | I14: 97.077503 | J14: 97.347134 | K14: 97.857433 | L14: 98.461517 | M14: 99.250412 | N14: 99.742092
B15: 2010 | C15: 92.45447 | D15: 92.658589 | E15: 93.191645 | F15: 93.517823 | G15: 93.245433 | H15: 93.417142 | I15: 93.671602 | J15: 93.89572 | K15: 94.366712 | L15: 94.652204 | M15: 95.143194 | N15: 95.536952
B16: 2009 | C16: 86.989442 | D16: 87.24804 | E16: 87.880397 | F16: 88.080379 | G16: 87.985215 | H16: 88.34932 | I16: 88.84169 | J16: 89.354748 | K16: 89.963658 | L16: 90.576707 | M16: 91.60627 | N16: 92.240696
B17: 2008 | C17: 83.882135 | D17: 84.116596 | E17: 84.298649 | F17: 84.248309 | G17: 83.837311 | H17: 83.937992 | I17: 84.294512 | J17: 84.637929 | K17: 85.295111 | L17: 85.627495 | M17: 86.231579 | N17: 86.588099
B18: 2007 | C18: 80.670698 | D18: 80.794136 | E18: 80.895506 | F18: 81.014116 | G18: 80.653459 | H18: 80.723108 | I18: 80.944467 | J18: 81.357533 | K18: 82.178839 | L18: 82.538117 | M18: 82.971182 | N18: 83.451139
B19: 2006 | C19: 77.61649 | D19: 77.875087 | E19: 78.22609 | F19: 78.504686 | G19: 78.307462 | H19: 78.232296 | I19: 78.538476 | J19: 78.632261 | K19: 78.947405 | L19: 79.14118 | M19: 79.710785 | N19: 80.200396
B20: 2005 | C20: 74.242309 | D20: 74.686407 | E20: 74.939488 | F20: 75.052581 | G20: 74.864323 | H20: 74.984312 | I20: 75.180846 | J20: 75.644942 | K20: 76.270403 | L20: 76.798632 | M20: 77.453746 | N20: 77.613731
... B24: 2001 | C24: 59.808327 | D24: 60.338845 | E24: 60.673356 | F24: 61.018565 | G24: 61.246667 | H24: 61.609452 | I24: 61.84978 | J24: 62.18964 | K24: 62.643934 | L24: 63.075302 | M24: 63.614608 | N24: 64.303307
